BEGIN:VCALENDAR
VERSION:2.0
PRODID:-// - ECPv6.15.20//NONSGML v1.0//EN
CALSCALE:GREGORIAN
METHOD:PUBLISH
X-ORIGINAL-URL:https://atba.nz
X-WR-CALDESC:Events for 
REFRESH-INTERVAL;VALUE=DURATION:PT1H
X-Robots-Tag:noindex
X-PUBLISHED-TTL:PT1H
BEGIN:VTIMEZONE
TZID:Pacific/Auckland
BEGIN:STANDARD
TZOFFSETFROM:+1300
TZOFFSETTO:+1200
TZNAME:NZST
DTSTART:20250405T140000
END:STANDARD
BEGIN:DAYLIGHT
TZOFFSETFROM:+1200
TZOFFSETTO:+1300
TZNAME:NZDT
DTSTART:20250927T140000
END:DAYLIGHT
BEGIN:STANDARD
TZOFFSETFROM:+1300
TZOFFSETTO:+1200
TZNAME:NZST
DTSTART:20260404T140000
END:STANDARD
BEGIN:DAYLIGHT
TZOFFSETFROM:+1200
TZOFFSETTO:+1300
TZNAME:NZDT
DTSTART:20260926T140000
END:DAYLIGHT
BEGIN:STANDARD
TZOFFSETFROM:+1300
TZOFFSETTO:+1200
TZNAME:NZST
DTSTART:20270403T140000
END:STANDARD
BEGIN:DAYLIGHT
TZOFFSETFROM:+1200
TZOFFSETTO:+1300
TZNAME:NZDT
DTSTART:20270925T140000
END:DAYLIGHT
END:VTIMEZONE
BEGIN:VEVENT
DTSTART;TZID=Pacific/Auckland:20260301T183000
DTEND;TZID=Pacific/Auckland:20260301T200000
DTSTAMP:20260423T080838
CREATED:20260203T105041Z
LAST-MODIFIED:20260203T105522Z
UID:2254-1772389800-1772395200@atba.nz
SUMMARY:Vihara Evening Puja\, Meditation & Dhamma Talk
DESCRIPTION:The weekly Sunday evening puja starts off with chanting\, followed by a group meditation sitting and a dhamma talk. \nThe lay community can participate in person at the Vihara or via this Zoom link: https://us06web.zoom.us/j/86719656283?pwd=MTExZWk0OGRRNjAwRjhCcTgzZ2pLdz09 \nMeeting ID: 867 1965 6283\nPasscode: 0272042234
URL:https://atba.nz/event/evening-puja-meditation-dhamma-talk-28/
LOCATION:Auckland Buddhist Vihara\, 29 Harris Rd\, Mt Wellington\, Auckland\, New Zealand
END:VEVENT
BEGIN:VEVENT
DTSTART;TZID=Pacific/Auckland:20260307T100000
DTEND;TZID=Pacific/Auckland:20260307T160000
DTSTAMP:20260423T080838
CREATED:20260203T105158Z
LAST-MODIFIED:20260304T065607Z
UID:2257-1772877600-1772899200@atba.nz
SUMMARY:Vimutti Working Bee. Memorial Tree Maintenance Day
DESCRIPTION:The March Working Bee at Vimutti Monastery\, on Saturday 7 March\, is going to be a special event dedicated to memorial tree maintenance. \nWe invite memorial tree donors to attend this working bee to tend the memorial trees of their loved ones. Work would involve weeding and clearing the area around the memorial trees\, maintaining the plaque and light pruning where required. \nPlease bring your own garden tools like secateurs\, loppers and weed eaters as Vimutti does not have enough for everyone. \nYou can join us any time between 10 am and 4pm. Make this a family day outing in the serene environment of the monastery.
URL:https://atba.nz/event/working-bee-23/
LOCATION:Vimutti Buddhist Monastery\, 750 Paparata Road Bombay\, Auckland\, 2343\, New Zealand
END:VEVENT
BEGIN:VEVENT
DTSTART;TZID=Pacific/Auckland:20260308T183000
DTEND;TZID=Pacific/Auckland:20260308T200000
DTSTAMP:20260423T080838
CREATED:20260203T110439Z
LAST-MODIFIED:20260203T110439Z
UID:2276-1772994600-1773000000@atba.nz
SUMMARY:Vihara Evening Puja\, Meditation & Dhamma Talk
DESCRIPTION:The weekly Sunday evening puja starts off with chanting\, followed by a group meditation sitting and a dhamma talk. \nThe lay community can participate in person at the Vihara or via this Zoom link: https://us06web.zoom.us/j/86719656283?pwd=MTExZWk0OGRRNjAwRjhCcTgzZ2pLdz09 \nMeeting ID: 867 1965 6283\nPasscode: 0272042234
URL:https://atba.nz/event/vihara-evening-puja-meditation-dhamma-talk-4/
LOCATION:Auckland Buddhist Vihara\, 29 Harris Rd\, Mt Wellington\, Auckland\, New Zealand
END:VEVENT
BEGIN:VEVENT
DTSTART;TZID=Pacific/Auckland:20260315T100000
DTEND;TZID=Pacific/Auckland:20260315T130000
DTSTAMP:20260423T080838
CREATED:20260304T064322Z
LAST-MODIFIED:20260304T064322Z
UID:2290-1773568800-1773579600@atba.nz
SUMMARY:Vimutti Open Day
DESCRIPTION:The Open Day at Vimutti Monastery is a monthly event where the lay community come together to offer alms food to the resident monks and devote time for dhamma learning and practice. The programme includes: \n\nTaking of 5 precepts\nOffering alms food to monks\nShared meal\nDhamma reflections/meditation or Q&A
URL:https://atba.nz/event/vimutti-open-day-12/
LOCATION:Vimutti Buddhist Monastery\, 750 Paparata Road Bombay\, Auckland\, 2343\, New Zealand
END:VEVENT
BEGIN:VEVENT
DTSTART;TZID=Pacific/Auckland:20260315T183000
DTEND;TZID=Pacific/Auckland:20260315T200000
DTSTAMP:20260423T080838
CREATED:20260203T110229Z
LAST-MODIFIED:20260203T110229Z
UID:2270-1773599400-1773604800@atba.nz
SUMMARY:Vihara Evening Puja\, Meditation & Dhamma Talk
DESCRIPTION:The weekly Sunday evening puja starts off with chanting\, followed by a group meditation sitting and a dhamma talk. \nThe lay community can participate in person at the Vihara or via this Zoom link: https://us06web.zoom.us/j/86719656283?pwd=MTExZWk0OGRRNjAwRjhCcTgzZ2pLdz09 \nMeeting ID: 867 1965 6283\nPasscode: 0272042234
URL:https://atba.nz/event/vihara-evening-puja-meditation-dhamma-talk-3/
LOCATION:Auckland Buddhist Vihara\, 29 Harris Rd\, Mt Wellington\, Auckland\, New Zealand
END:VEVENT
BEGIN:VEVENT
DTSTART;TZID=Pacific/Auckland:20260321T130000
DTEND;TZID=Pacific/Auckland:20260321T170000
DTSTAMP:20260423T080838
CREATED:20260304T064501Z
LAST-MODIFIED:20260304T064501Z
UID:2292-1774098000-1774112400@atba.nz
SUMMARY:Vimutti Meditation Workshop
DESCRIPTION:This is a monthly meditation workshop at Vimutti Buddhist Monastery led by the resident Sangha. All are welcome. Come for an afternoon of practice.
URL:https://atba.nz/event/vimutti-meditation-workshop/
LOCATION:Vimutti Buddhist Monastery\, 750 Paparata Road Bombay\, Auckland\, 2343\, New Zealand
END:VEVENT
BEGIN:VEVENT
DTSTART;TZID=Pacific/Auckland:20260322T183000
DTEND;TZID=Pacific/Auckland:20260322T200000
DTSTAMP:20260423T080838
CREATED:20260203T110215Z
LAST-MODIFIED:20260203T110215Z
UID:2272-1774204200-1774209600@atba.nz
SUMMARY:Vihara Evening Puja\, Meditation & Dhamma Talk
DESCRIPTION:The weekly Sunday evening puja starts off with chanting\, followed by a group meditation sitting and a dhamma talk. \nThe lay community can participate in person at the Vihara or via this Zoom link: https://us06web.zoom.us/j/86719656283?pwd=MTExZWk0OGRRNjAwRjhCcTgzZ2pLdz09 \nMeeting ID: 867 1965 6283\nPasscode: 0272042234
URL:https://atba.nz/event/vihara-evening-puja-meditation-dhamma-talk-2/
LOCATION:Auckland Buddhist Vihara\, 29 Harris Rd\, Mt Wellington\, Auckland\, New Zealand
END:VEVENT
BEGIN:VEVENT
DTSTART;TZID=Pacific/Auckland:20260329T100000
DTEND;TZID=Pacific/Auckland:20260329T140000
DTSTAMP:20260423T080838
CREATED:20260304T065415Z
LAST-MODIFIED:20260304T065415Z
UID:2295-1774778400-1774792800@atba.nz
SUMMARY:Vihara Open Day. Founders & Elders Day
DESCRIPTION:The March Open Day at the City Vihara on 29 March\, Sunday\, is going to be a special day where we’ll honour the founders and elders who established the Auckland Theravada Buddhist Association (ATBA). Ajahn Kusalo and Sangha from Vimutti will be at this special event. The programme is in two parts. \nThe morning segment includes: \n\nTaking of 5 precepts\nRice pindapata\nDhamma reflections\nShared meal\n\nThe afternoon segment to celebrate Founders & Elders Day includes: \n\nSpeeches/expressions of gratitude\nParitta chanting\nWater blessing\n\n 
URL:https://atba.nz/event/vihara-open-day-founders-elders-day/
LOCATION:Auckland Buddhist Vihara\, 29 Harris Rd\, Mt Wellington\, Auckland\, New Zealand
END:VEVENT
BEGIN:VEVENT
DTSTART;TZID=Pacific/Auckland:20260329T183000
DTEND;TZID=Pacific/Auckland:20260329T200000
DTSTAMP:20260423T080838
CREATED:20260203T110649Z
LAST-MODIFIED:20260203T110649Z
UID:2281-1774809000-1774814400@atba.nz
SUMMARY:Vihara Evening Puja\, Meditation & Dhamma Talk
DESCRIPTION:The weekly Sunday evening puja starts off with chanting\, followed by a group meditation sitting and a dhamma talk. \nThe lay community can participate in person at the Vihara or via this Zoom link: https://us06web.zoom.us/j/86719656283?pwd=MTExZWk0OGRRNjAwRjhCcTgzZ2pLdz09 \nMeeting ID: 867 1965 6283\nPasscode: 0272042234
URL:https://atba.nz/event/vihara-evening-puja-meditation-dhamma-talk-5/
LOCATION:Auckland Buddhist Vihara\, 29 Harris Rd\, Mt Wellington\, Auckland\, New Zealand
END:VEVENT
END:VCALENDAR