BEGIN:VCALENDAR
VERSION:2.0
PRODID:-// - ECPv6.15.20//NONSGML v1.0//EN
CALSCALE:GREGORIAN
METHOD:PUBLISH
X-ORIGINAL-URL:https://atba.nz
X-WR-CALDESC:Events for 
REFRESH-INTERVAL;VALUE=DURATION:PT1H
X-Robots-Tag:noindex
X-PUBLISHED-TTL:PT1H
BEGIN:VTIMEZONE
TZID:Pacific/Auckland
BEGIN:STANDARD
TZOFFSETFROM:+1300
TZOFFSETTO:+1200
TZNAME:NZST
DTSTART:20240406T140000
END:STANDARD
BEGIN:DAYLIGHT
TZOFFSETFROM:+1200
TZOFFSETTO:+1300
TZNAME:NZDT
DTSTART:20240928T140000
END:DAYLIGHT
BEGIN:STANDARD
TZOFFSETFROM:+1300
TZOFFSETTO:+1200
TZNAME:NZST
DTSTART:20250405T140000
END:STANDARD
BEGIN:DAYLIGHT
TZOFFSETFROM:+1200
TZOFFSETTO:+1300
TZNAME:NZDT
DTSTART:20250927T140000
END:DAYLIGHT
BEGIN:STANDARD
TZOFFSETFROM:+1300
TZOFFSETTO:+1200
TZNAME:NZST
DTSTART:20260404T140000
END:STANDARD
BEGIN:DAYLIGHT
TZOFFSETFROM:+1200
TZOFFSETTO:+1300
TZNAME:NZDT
DTSTART:20260926T140000
END:DAYLIGHT
END:VTIMEZONE
BEGIN:VEVENT
DTSTART;TZID=Pacific/Auckland:20251004T100000
DTEND;TZID=Pacific/Auckland:20251004T160000
DTSTAMP:20260424T014532
CREATED:20250927T000243Z
LAST-MODIFIED:20250927T000243Z
UID:1977-1759572000-1759593600@atba.nz
SUMMARY:Working Bee
DESCRIPTION:This is a day to help with maintenance and upkeep of Vimutti monastery. You can join any time from 10:00 am onwards. Please wear suitable work attire and bring a packed lunch. The following items may be helpful to bring along: \n\n\n\nwater\nwork gloves\nhat\ngumboots\n\n\n\nJoin us for this opportunity of merit making.
URL:https://atba.nz/event/working-bee-18/
LOCATION:Vimutti Buddhist Monastery\, 750 Paparata Road Bombay\, Auckland\, 2343\, New Zealand
END:VEVENT
BEGIN:VEVENT
DTSTART;TZID=Pacific/Auckland:20251005T183000
DTEND;TZID=Pacific/Auckland:20251005T200000
DTSTAMP:20260424T014532
CREATED:20250927T000843Z
LAST-MODIFIED:20250927T000843Z
UID:1979-1759689000-1759694400@atba.nz
SUMMARY:Evening Puja\, Meditation & Dhamma Talk
DESCRIPTION:The weekly Sunday evening puja starts off with chanting\, followed by a group meditation sitting and a dhamma talk. \nThe lay community can participate in person at the Vihara or via this Zoom link: https://us06web.zoom.us/j/86719656283?pwd=MTExZWk0OGRRNjAwRjhCcTgzZ2pLdz09 \nMeeting ID: 867 1965 6283\nPasscode: 0272042234
URL:https://atba.nz/event/evening-puja-meditation-dhamma-talk-15/
LOCATION:Auckland Buddhist Vihara\, 29 Harris Rd\, Mt Wellington\, Auckland\, New Zealand
END:VEVENT
BEGIN:VEVENT
DTSTART;TZID=Pacific/Auckland:20251012T183000
DTEND;TZID=Pacific/Auckland:20251012T200000
DTSTAMP:20260424T014532
CREATED:20250927T000828Z
LAST-MODIFIED:20250927T000828Z
UID:1981-1760293800-1760299200@atba.nz
SUMMARY:Evening Puja\, Meditation & Dhamma Talk
DESCRIPTION:The weekly Sunday evening puja starts off with chanting\, followed by a group meditation sitting and a dhamma talk. \nThe lay community can participate in person at the Vihara or via this Zoom link: https://us06web.zoom.us/j/86719656283?pwd=MTExZWk0OGRRNjAwRjhCcTgzZ2pLdz09 \nMeeting ID: 867 1965 6283\nPasscode: 0272042234
URL:https://atba.nz/event/evening-puja-meditation-dhamma-talk-14/
LOCATION:Auckland Buddhist Vihara\, 29 Harris Rd\, Mt Wellington\, Auckland\, New Zealand
END:VEVENT
BEGIN:VEVENT
DTSTART;TZID=Pacific/Auckland:20251019T183000
DTEND;TZID=Pacific/Auckland:20251019T200000
DTSTAMP:20260424T014532
CREATED:20250927T000812Z
LAST-MODIFIED:20250927T000812Z
UID:1983-1760898600-1760904000@atba.nz
SUMMARY:Evening Puja\, Meditation & Dhamma Talk
DESCRIPTION:The weekly Sunday evening puja starts off with chanting\, followed by a group meditation sitting and a dhamma talk. \nThe lay community can participate in person at the Vihara or via this Zoom link: https://us06web.zoom.us/j/86719656283?pwd=MTExZWk0OGRRNjAwRjhCcTgzZ2pLdz09 \nMeeting ID: 867 1965 6283\nPasscode: 0272042234
URL:https://atba.nz/event/evening-puja-meditation-dhamma-talk-13/
LOCATION:Auckland Buddhist Vihara\, 29 Harris Rd\, Mt Wellington\, Auckland\, New Zealand
END:VEVENT
BEGIN:VEVENT
DTSTART;TZID=Pacific/Auckland:20251026T100000
DTEND;TZID=Pacific/Auckland:20251026T130000
DTSTAMP:20260424T014532
CREATED:20250927T001039Z
LAST-MODIFIED:20250927T001039Z
UID:1992-1761472800-1761483600@atba.nz
SUMMARY:City Vihara Open Day
DESCRIPTION:The monthly Open Day at the City Vihara is on the fourth Sunday as usual\, starting at 10.00 am. Sangha from Vimutti Monastery will be with us. The programme includes: \n\nTaking of 5 precepts\nOffering alms food to Sangha from Vimutti Monastery\nShared meal\nDhamma reflections/meditation or Q&A
URL:https://atba.nz/event/city-vihara-open-day-15/
LOCATION:Auckland Buddhist Vihara\, 29 Harris Rd\, Mt Wellington\, Auckland\, New Zealand
END:VEVENT
BEGIN:VEVENT
DTSTART;TZID=Pacific/Auckland:20251026T183000
DTEND;TZID=Pacific/Auckland:20251026T200000
DTSTAMP:20260424T014532
CREATED:20250927T000745Z
LAST-MODIFIED:20250927T000745Z
UID:1985-1761503400-1761508800@atba.nz
SUMMARY:Sangha-led Evening Puja\, Meditation and Dhamma Talk
DESCRIPTION:The weekly Sunday evening puja starts off with chanting\, followed by a group meditation sitting and a dhamma talk. Sangha from Vimutti Monastery will be at the puja. \nThe lay community can participate in person at the Vihara or via this Zoom link: https://us06web.zoom.us/j/86719656283?pwd=MTExZWk0OGRRNjAwRjhCcTgzZ2pLdz09 \nMeeting ID: 867 1965 6283\nPasscode: 0272042234
URL:https://atba.nz/event/sangha-led-evening-puja-meditation-and-dhamma-talk-19/
LOCATION:Auckland Buddhist Vihara\, 29 Harris Rd\, Mt Wellington\, Auckland\, New Zealand
END:VEVENT
BEGIN:VEVENT
DTSTART;TZID=Pacific/Auckland:20251101T100000
DTEND;TZID=Pacific/Auckland:20251101T160000
DTSTAMP:20260424T014532
CREATED:20251027T074657Z
LAST-MODIFIED:20251027T074657Z
UID:2079-1761991200-1762012800@atba.nz
SUMMARY:Working Bee
DESCRIPTION:This is a day to help with maintenance and upkeep of Vimutti monastery. You can join any time from 10:00 am onwards. Please wear suitable work attire and bring a packed lunch. The following items may be helpful to bring along: \n\n\n\nwater\nwork gloves\nhat\ngumboots\n\n\n\nJoin us for this opportunity of merit making.
URL:https://atba.nz/event/working-bee-19/
LOCATION:Vimutti Buddhist Monastery\, 750 Paparata Road Bombay\, Auckland\, 2343\, New Zealand
END:VEVENT
END:VCALENDAR