BEGIN:VCALENDAR
VERSION:2.0
PRODID:-// - ECPv6.15.20//NONSGML v1.0//EN
CALSCALE:GREGORIAN
METHOD:PUBLISH
X-ORIGINAL-URL:https://atba.nz
X-WR-CALDESC:Events for 
REFRESH-INTERVAL;VALUE=DURATION:PT1H
X-Robots-Tag:noindex
X-PUBLISHED-TTL:PT1H
BEGIN:VTIMEZONE
TZID:Pacific/Auckland
BEGIN:STANDARD
TZOFFSETFROM:+1300
TZOFFSETTO:+1200
TZNAME:NZST
DTSTART:20240406T140000
END:STANDARD
BEGIN:DAYLIGHT
TZOFFSETFROM:+1200
TZOFFSETTO:+1300
TZNAME:NZDT
DTSTART:20240928T140000
END:DAYLIGHT
BEGIN:STANDARD
TZOFFSETFROM:+1300
TZOFFSETTO:+1200
TZNAME:NZST
DTSTART:20250405T140000
END:STANDARD
BEGIN:DAYLIGHT
TZOFFSETFROM:+1200
TZOFFSETTO:+1300
TZNAME:NZDT
DTSTART:20250927T140000
END:DAYLIGHT
BEGIN:STANDARD
TZOFFSETFROM:+1300
TZOFFSETTO:+1200
TZNAME:NZST
DTSTART:20260404T140000
END:STANDARD
BEGIN:DAYLIGHT
TZOFFSETFROM:+1200
TZOFFSETTO:+1300
TZNAME:NZDT
DTSTART:20260926T140000
END:DAYLIGHT
END:VTIMEZONE
BEGIN:VEVENT
DTSTART;TZID=Pacific/Auckland:20250705T100000
DTEND;TZID=Pacific/Auckland:20250705T160000
DTSTAMP:20260424T065319
CREATED:20250702T040741Z
LAST-MODIFIED:20250702T040741Z
UID:1905-1751709600-1751731200@atba.nz
SUMMARY:Working Bee
DESCRIPTION:This is a day to help with maintenance and upkeep of Vimutti monastery. You can join any time from 10:00 am onwards. Please wear suitable work attire and bring a packed lunch. The following items may be helpful to bring along: \n\n\n\nwater\nwork gloves\nhat\ngumboots\n\n\n\nJoin us for this opportunity of merit making.
URL:https://atba.nz/event/working-bee-15/
LOCATION:Vimutti Buddhist Monastery\, 750 Paparata Road Bombay\, Auckland\, 2343\, New Zealand
END:VEVENT
BEGIN:VEVENT
DTSTART;TZID=Pacific/Auckland:20250706T183000
DTEND;TZID=Pacific/Auckland:20250706T200000
DTSTAMP:20260424T065319
CREATED:20250702T040950Z
LAST-MODIFIED:20250702T040950Z
UID:1907-1751826600-1751832000@atba.nz
SUMMARY:Evening Puja\, Meditation & Dhamma Talk
DESCRIPTION:The weekly Sunday evening puja starts off with chanting\, followed by a group meditation sitting and a dhamma talk. \nThe lay community can participate in person at the Vihara or via this Zoom link: https://us06web.zoom.us/j/86719656283?pwd=MTExZWk0OGRRNjAwRjhCcTgzZ2pLdz09 \nMeeting ID: 867 1965 6283\nPasscode: 0272042234
URL:https://atba.nz/event/evening-puja-meditation-dhamma-talk-3/
LOCATION:Auckland Buddhist Vihara\, 29 Harris Rd\, Mt Wellington\, Auckland\, New Zealand
END:VEVENT
BEGIN:VEVENT
DTSTART;TZID=Pacific/Auckland:20250713T183000
DTEND;TZID=Pacific/Auckland:20250713T200000
DTSTAMP:20260424T065319
CREATED:20250702T041320Z
LAST-MODIFIED:20250702T041320Z
UID:1909-1752431400-1752436800@atba.nz
SUMMARY:Evening Puja\, Meditation & Dhamma Talk
DESCRIPTION:The weekly Sunday evening puja starts off with chanting\, followed by a group meditation sitting and a dhamma talk. \nThe lay community can participate in person at the Vihara or via this Zoom link: https://us06web.zoom.us/j/86719656283?pwd=MTExZWk0OGRRNjAwRjhCcTgzZ2pLdz09 \nMeeting ID: 867 1965 6283\nPasscode: 0272042234
URL:https://atba.nz/event/evening-puja-meditation-dhamma-talk-4/
LOCATION:Auckland Buddhist Vihara\, 29 Harris Rd\, Mt Wellington\, Auckland\, New Zealand
END:VEVENT
BEGIN:VEVENT
DTSTART;TZID=Pacific/Auckland:20250720T183000
DTEND;TZID=Pacific/Auckland:20250720T200000
DTSTAMP:20260424T065319
CREATED:20250702T041357Z
LAST-MODIFIED:20250702T041405Z
UID:1911-1753036200-1753041600@atba.nz
SUMMARY:Evening Puja\, Meditation & Dhamma Talk
DESCRIPTION:The weekly Sunday evening puja starts off with chanting\, followed by a group meditation sitting and a dhamma talk. \nThe lay community can participate in person at the Vihara or via this Zoom link: https://us06web.zoom.us/j/86719656283?pwd=MTExZWk0OGRRNjAwRjhCcTgzZ2pLdz09 \nMeeting ID: 867 1965 6283\nPasscode: 0272042234
URL:https://atba.nz/event/evening-puja-meditation-dhamma-talk-5/
LOCATION:Auckland Buddhist Vihara\, 29 Harris Rd\, Mt Wellington\, Auckland\, New Zealand
END:VEVENT
BEGIN:VEVENT
DTSTART;TZID=Pacific/Auckland:20250727T100000
DTEND;TZID=Pacific/Auckland:20250727T130000
DTSTAMP:20260424T065319
CREATED:20250702T041854Z
LAST-MODIFIED:20250702T041854Z
UID:1919-1753610400-1753621200@atba.nz
SUMMARY:City Vihara Open Day
DESCRIPTION:The regular Open Day at the City Vihara is on the 4th Sunday\, starting at 10.00 am. The programme includes: \n\nTaking of 5 precepts\nOffering alms food to Sangha from Vimutti Monastery\nShared meal\nDhamma reflections/meditation or Q&A
URL:https://atba.nz/event/city-vihara-open-day-12/
LOCATION:Auckland Buddhist Vihara\, 29 Harris Rd\, Mt Wellington\, Auckland\, New Zealand
END:VEVENT
BEGIN:VEVENT
DTSTART;TZID=Pacific/Auckland:20250727T183000
DTEND;TZID=Pacific/Auckland:20250727T200000
DTSTAMP:20260424T065319
CREATED:20250702T041536Z
LAST-MODIFIED:20250702T041536Z
UID:1913-1753641000-1753646400@atba.nz
SUMMARY:Sangha-led Evening Puja\, Meditation and Dhamma Talk
DESCRIPTION:The weekly Sunday evening puja starts off with chanting\, followed by a group meditation sitting and a dhamma talk. Sangha from Vimutti Monastery will be at the puja. \nThe lay community can participate in person at the Vihara or via this Zoom link: https://us06web.zoom.us/j/86719656283?pwd=MTExZWk0OGRRNjAwRjhCcTgzZ2pLdz09 \nMeeting ID: 867 1965 6283\nPasscode: 0272042234
URL:https://atba.nz/event/sangha-led-evening-puja-meditation-and-dhamma-talk-16/
LOCATION:Auckland Buddhist Vihara\, 29 Harris Rd\, Mt Wellington\, Auckland\, New Zealand
END:VEVENT
END:VCALENDAR