BEGIN:VCALENDAR
VERSION:2.0
PRODID:-// - ECPv6.15.20//NONSGML v1.0//EN
CALSCALE:GREGORIAN
METHOD:PUBLISH
X-ORIGINAL-URL:https://atba.nz
X-WR-CALDESC:Events for 
REFRESH-INTERVAL;VALUE=DURATION:PT1H
X-Robots-Tag:noindex
X-PUBLISHED-TTL:PT1H
BEGIN:VTIMEZONE
TZID:Pacific/Auckland
BEGIN:STANDARD
TZOFFSETFROM:+1300
TZOFFSETTO:+1200
TZNAME:NZST
DTSTART:20240406T140000
END:STANDARD
BEGIN:DAYLIGHT
TZOFFSETFROM:+1200
TZOFFSETTO:+1300
TZNAME:NZDT
DTSTART:20240928T140000
END:DAYLIGHT
BEGIN:STANDARD
TZOFFSETFROM:+1300
TZOFFSETTO:+1200
TZNAME:NZST
DTSTART:20250405T140000
END:STANDARD
BEGIN:DAYLIGHT
TZOFFSETFROM:+1200
TZOFFSETTO:+1300
TZNAME:NZDT
DTSTART:20250927T140000
END:DAYLIGHT
BEGIN:STANDARD
TZOFFSETFROM:+1300
TZOFFSETTO:+1200
TZNAME:NZST
DTSTART:20260404T140000
END:STANDARD
BEGIN:DAYLIGHT
TZOFFSETFROM:+1200
TZOFFSETTO:+1300
TZNAME:NZDT
DTSTART:20260926T140000
END:DAYLIGHT
END:VTIMEZONE
BEGIN:VEVENT
DTSTART;TZID=Pacific/Auckland:20250405T100000
DTEND;TZID=Pacific/Auckland:20250405T160000
DTSTAMP:20260424T115738
CREATED:20250329T051602Z
LAST-MODIFIED:20250329T051602Z
UID:1814-1743847200-1743868800@atba.nz
SUMMARY:Special Working Bee - Memorial Tree Maintenance Day
DESCRIPTION:The next Working Bee at Vimutti Monastery\, on Saturday 5 April\, is going to be a very special event dedicated to memorial tree maintenance. \nAll are welcome\, and in particular\, we invite all memorial tree donors to attend this working bee to tend to the memorial trees of their loved ones. Work involves weeding and clearing the area under the memorial trees\, plaque maintenance and some light pruning where required. \nPlease bring your own garden tools like secateurs\, loppers and weed eaters as Vimutti does not have enough for everyone. \nYou can join us any time between 10 am and 4pm. Make this a family day outing in the serene environment of the monastery. Please wear suitable work attire and bring a packed lunch. The following items may be helpful to bring along: \n\n\n\nwater\nwork gloves\nhat\ngumboots
URL:https://atba.nz/event/special-working-bee-memorial-tree-maintenance-day/
LOCATION:Vimutti Buddhist Monastery\, 750 Paparata Road Bombay\, Auckland\, 2343\, New Zealand
END:VEVENT
BEGIN:VEVENT
DTSTART;TZID=Pacific/Auckland:20250406T183000
DTEND;TZID=Pacific/Auckland:20250406T200000
DTSTAMP:20260424T115738
CREATED:20250329T052511Z
LAST-MODIFIED:20250329T052551Z
UID:1823-1743964200-1743969600@atba.nz
SUMMARY:Evening Puja\, Meditation and Dhamma Talk
DESCRIPTION:The lay community can participate in person at the Vihara or via this Zoom link: https://us06web.zoom.us/j/86719656283?pwd=MTExZWk0OGRRNjAwRjhCcTgzZ2pLdz09 \nMeeting ID: 867 1965 6283\nPasscode: 0272042234
URL:https://atba.nz/event/evening-puja-meditation-and-dhamma-talkevening-puja-meditation-and-dhamma-talk/
LOCATION:Auckland Buddhist Vihara\, 29 Harris Rd\, Mt Wellington\, Auckland\, New Zealand
END:VEVENT
BEGIN:VEVENT
DTSTART;TZID=Pacific/Auckland:20250413T100000
DTEND;TZID=Pacific/Auckland:20250413T130000
DTSTAMP:20260424T115738
CREATED:20250329T052739Z
LAST-MODIFIED:20250329T052805Z
UID:1827-1744538400-1744549200@atba.nz
SUMMARY:Vimutti Open Day
DESCRIPTION:The Open Day at Vimutti Buddhist Monastery is an important monthly event where the lay community get to meet the Venerable monks and devote time for dhamma learning and practice under their guidance. The programme includes: \n\nTaking of 5 precepts\nOffering alms food to monks\nShared meal\nDhamma reflections/meditation or Q&A
URL:https://atba.nz/event/vimutti-open-day-10/
LOCATION:Vimutti Buddhist Monastery\, 750 Paparata Road Bombay\, Auckland\, 2343\, New Zealand
END:VEVENT
BEGIN:VEVENT
DTSTART;TZID=Pacific/Auckland:20250413T183000
DTEND;TZID=Pacific/Auckland:20250413T200000
DTSTAMP:20260424T115738
CREATED:20250329T053001Z
LAST-MODIFIED:20250329T053001Z
UID:1831-1744569000-1744574400@atba.nz
SUMMARY:Evening Puja\, Meditation and Dhamma Talk
DESCRIPTION:The lay community can participate in person at the Vihara or via this Zoom link: https://us06web.zoom.us/j/86719656283?pwd=MTExZWk0OGRRNjAwRjhCcTgzZ2pLdz09 \nMeeting ID: 867 1965 6283\nPasscode: 0272042234
URL:https://atba.nz/event/evening-puja-meditation-and-dhamma-talk-40/
LOCATION:Auckland Buddhist Vihara\, 29 Harris Rd\, Mt Wellington\, Auckland\, New Zealand
END:VEVENT
BEGIN:VEVENT
DTSTART;TZID=Pacific/Auckland:20250419T130000
DTEND;TZID=Pacific/Auckland:20250419T170000
DTSTAMP:20260424T115738
CREATED:20250329T053126Z
LAST-MODIFIED:20250329T053126Z
UID:1834-1745067600-1745082000@atba.nz
SUMMARY:Meditation Workshop
DESCRIPTION:This is a monthly meditation workshop at Vimutti Buddhist Monastery. All are welcome. Come for an afternoon of practice.
URL:https://atba.nz/event/meditation-workshop-15/
LOCATION:Vimutti Buddhist Monastery\, 750 Paparata Road Bombay\, Auckland\, 2343\, New Zealand
END:VEVENT
BEGIN:VEVENT
DTSTART;TZID=Pacific/Auckland:20250420T183000
DTEND;TZID=Pacific/Auckland:20250420T200000
DTSTAMP:20260424T115738
CREATED:20250329T053254Z
LAST-MODIFIED:20250329T053254Z
UID:1836-1745173800-1745179200@atba.nz
SUMMARY:Evening Puja\, Meditation and Dhamma Talk
DESCRIPTION:The lay community can participate in person at the Vihara or via this Zoom link: https://us06web.zoom.us/j/86719656283?pwd=MTExZWk0OGRRNjAwRjhCcTgzZ2pLdz09 \nMeeting ID: 867 1965 6283\nPasscode: 0272042234
URL:https://atba.nz/event/evening-puja-meditation-and-dhamma-talk-41/
LOCATION:Auckland Buddhist Vihara\, 29 Harris Rd\, Mt Wellington\, Auckland\, New Zealand
END:VEVENT
BEGIN:VEVENT
DTSTART;TZID=Pacific/Auckland:20250426T183000
DTEND;TZID=Pacific/Auckland:20250426T210000
DTSTAMP:20260424T115738
CREATED:20250329T054311Z
LAST-MODIFIED:20250329T054933Z
UID:1839-1745692200-1745701200@atba.nz
SUMMARY:Dhamma Sermon by Venerable Dr. Athurugiriye Mahinda Thero
DESCRIPTION:Title of the Dhamma Talk: \nThe Theory of Everything\n\n\nProfile \nVen. Dr. Athurugiriye Mahinda Thero\, a former ANU research scientist\, integrates scientific knowledge with profound Buddhist wisdom. Renouncing worldly life\, he now helps individuals overcome stress\, anxiety and addictions. As a pro bono consultant for Vimukthi Foundation\, he supports rehabilitation programs\, using Buddhist teachings to promote inner peace and personal transformation.
URL:https://atba.nz/event/dhamma-sermon-by-venerable-dr-athurugiriye-mahinda-thero/
LOCATION:Auckland Buddhist Vihara\, 29 Harris Rd\, Mt Wellington\, Auckland\, New Zealand
END:VEVENT
BEGIN:VEVENT
DTSTART;TZID=Pacific/Auckland:20250427T100000
DTEND;TZID=Pacific/Auckland:20250427T130000
DTSTAMP:20260424T115738
CREATED:20250329T053847Z
LAST-MODIFIED:20250329T053847Z
UID:1844-1745748000-1745758800@atba.nz
SUMMARY:City Vihara Open Day
DESCRIPTION:The regular Open Day at the City Vihara is on the 4th Sunday of each month\, starting at 10.00 am. The programme includes: \n\nTaking of 5 precepts\nOffering alms food to Sangha from Vimutti Monastery\nShared meal\nDhamma reflections/meditation or Q&A
URL:https://atba.nz/event/city-vihara-open-day-10/
LOCATION:Auckland Buddhist Vihara\, 29 Harris Rd\, Mt Wellington\, Auckland\, New Zealand
END:VEVENT
BEGIN:VEVENT
DTSTART;TZID=Pacific/Auckland:20250427T183000
DTEND;TZID=Pacific/Auckland:20250427T200000
DTSTAMP:20260424T115738
CREATED:20250329T053656Z
LAST-MODIFIED:20250329T053656Z
UID:1841-1745778600-1745784000@atba.nz
SUMMARY:Sangha-led Evening Puja\, Meditation and Dhamma Talk
DESCRIPTION:Sangha from Vimutti Buddhist Monastery will be leading the evening’s proceedings. \nYou can participate in person at the Vihara or via this Zoom link: https://us06web.zoom.us/j/86719656283?pwd=MTExZWk0OGRRNjAwRjhCcTgzZ2pLdz09 \nMeeting ID: 867 1965 6283\nPasscode: 0272042234
URL:https://atba.nz/event/sangha-led-evening-puja-meditation-and-dhamma-talk-12/
LOCATION:Auckland Buddhist Vihara\, 29 Harris Rd\, Mt Wellington\, Auckland\, New Zealand
END:VEVENT
END:VCALENDAR