BEGIN:VCALENDAR
VERSION:2.0
PRODID:-// - ECPv6.15.20//NONSGML v1.0//EN
CALSCALE:GREGORIAN
METHOD:PUBLISH
X-ORIGINAL-URL:https://atba.nz
X-WR-CALDESC:Events for 
REFRESH-INTERVAL;VALUE=DURATION:PT1H
X-Robots-Tag:noindex
X-PUBLISHED-TTL:PT1H
BEGIN:VTIMEZONE
TZID:Pacific/Auckland
BEGIN:STANDARD
TZOFFSETFROM:+1300
TZOFFSETTO:+1200
TZNAME:NZST
DTSTART:20240406T140000
END:STANDARD
BEGIN:DAYLIGHT
TZOFFSETFROM:+1200
TZOFFSETTO:+1300
TZNAME:NZDT
DTSTART:20240928T140000
END:DAYLIGHT
BEGIN:STANDARD
TZOFFSETFROM:+1300
TZOFFSETTO:+1200
TZNAME:NZST
DTSTART:20250405T140000
END:STANDARD
BEGIN:DAYLIGHT
TZOFFSETFROM:+1200
TZOFFSETTO:+1300
TZNAME:NZDT
DTSTART:20250927T140000
END:DAYLIGHT
BEGIN:STANDARD
TZOFFSETFROM:+1300
TZOFFSETTO:+1200
TZNAME:NZST
DTSTART:20260404T140000
END:STANDARD
BEGIN:DAYLIGHT
TZOFFSETFROM:+1200
TZOFFSETTO:+1300
TZNAME:NZDT
DTSTART:20260926T140000
END:DAYLIGHT
END:VTIMEZONE
BEGIN:VEVENT
DTSTART;TZID=Pacific/Auckland:20250301T100000
DTEND;TZID=Pacific/Auckland:20250301T160000
DTSTAMP:20260424T133848
CREATED:20250224T090355Z
LAST-MODIFIED:20250224T090355Z
UID:1785-1740823200-1740844800@atba.nz
SUMMARY:Working Bee
DESCRIPTION:This is a day to help with maintenance and upkeep of Vimutti monastery. You can join any time from 10:00 am onwards. Please wear suitable work attire and bring a packed lunch. The following items may be helpful to bring along: \n\n\n\nwater\nwork gloves\nhat\ngumboots\n\n\n\nJoin us for this opportunity of merit making.
URL:https://atba.nz/event/working-bee-12/
LOCATION:Vimutti Buddhist Monastery\, 750 Paparata Road Bombay\, Auckland\, 2343\, New Zealand
END:VEVENT
BEGIN:VEVENT
DTSTART;TZID=Pacific/Auckland:20250302T183000
DTEND;TZID=Pacific/Auckland:20250302T200000
DTSTAMP:20260424T133848
CREATED:20250224T090634Z
LAST-MODIFIED:20250224T090634Z
UID:1788-1740940200-1740945600@atba.nz
SUMMARY:Evening Puja\, Meditation and Dhamma Talk
DESCRIPTION:You can participate in person at the Vihara or via this Zoom link: https://us06web.zoom.us/j/86719656283?pwd=MTExZWk0OGRRNjAwRjhCcTgzZ2pLdz09 \nMeeting ID: 867 1965 6283\nPasscode: 0272042234
URL:https://atba.nz/event/evening-puja-meditation-and-dhamma-talk-36/
LOCATION:Auckland Buddhist Vihara\, 29 Harris Rd\, Mt Wellington\, Auckland\, New Zealand
END:VEVENT
BEGIN:VEVENT
DTSTART;TZID=Pacific/Auckland:20250309T100000
DTEND;TZID=Pacific/Auckland:20250309T130000
DTSTAMP:20260424T133848
CREATED:20250224T090902Z
LAST-MODIFIED:20250224T090902Z
UID:1791-1741514400-1741525200@atba.nz
SUMMARY:Vimutti Open Day
DESCRIPTION:The Open Day at Vimutti Buddhist Monastery is an important monthly event where the lay community get to meet the Venerable monks and devote time for dhamma learning and practice under their guidance. \n\nTaking of 5 precepts\nOffering alms food to monks\nShared meal\nDhamma reflections/meditation or Q&A
URL:https://atba.nz/event/vimutti-open-day-9/
LOCATION:Vimutti Buddhist Monastery\, 750 Paparata Road Bombay\, Auckland\, 2343\, New Zealand
END:VEVENT
BEGIN:VEVENT
DTSTART;TZID=Pacific/Auckland:20250309T183000
DTEND;TZID=Pacific/Auckland:20250309T200000
DTSTAMP:20260424T133848
CREATED:20250224T091052Z
LAST-MODIFIED:20250224T091052Z
UID:1794-1741545000-1741550400@atba.nz
SUMMARY:Evening Puja\, Meditation and Dhamma Talk
DESCRIPTION:The lay community can participate in person at the Vihara or via this Zoom link: https://us06web.zoom.us/j/86719656283?pwd=MTExZWk0OGRRNjAwRjhCcTgzZ2pLdz09 \nMeeting ID: 867 1965 6283\nPasscode: 0272042234
URL:https://atba.nz/event/evening-puja-meditation-and-dhamma-talk-37/
LOCATION:Auckland Buddhist Vihara\, 29 Harris Rd\, Mt Wellington\, Auckland\, New Zealand
END:VEVENT
BEGIN:VEVENT
DTSTART;TZID=Pacific/Auckland:20250315T130000
DTEND;TZID=Pacific/Auckland:20250315T170000
DTSTAMP:20260424T133848
CREATED:20250224T091318Z
LAST-MODIFIED:20250224T091318Z
UID:1797-1742043600-1742058000@atba.nz
SUMMARY:Meditation Workshop
DESCRIPTION:This is a monthly meditation workshop at Vimutti Buddhist Monastery. All are welcome. Come for an afternoon of practice.
URL:https://atba.nz/event/meditation-workshop-14/
LOCATION:Vimutti Buddhist Monastery\, 750 Paparata Road Bombay\, Auckland\, 2343\, New Zealand
END:VEVENT
BEGIN:VEVENT
DTSTART;TZID=Pacific/Auckland:20250316T183000
DTEND;TZID=Pacific/Auckland:20250316T200000
DTSTAMP:20260424T133848
CREATED:20250224T091534Z
LAST-MODIFIED:20250224T091534Z
UID:1800-1742149800-1742155200@atba.nz
SUMMARY:Evening Puja\, Meditation and Dhamma Talk
DESCRIPTION:The lay community can participate in person at the Vihara or via this Zoom link: https://us06web.zoom.us/j/86719656283?pwd=MTExZWk0OGRRNjAwRjhCcTgzZ2pLdz09 \nMeeting ID: 867 1965 6283\nPasscode: 0272042234
URL:https://atba.nz/event/evening-puja-meditation-and-dhamma-talk-38/
LOCATION:Auckland Buddhist Vihara\, 29 Harris Rd\, Mt Wellington\, Auckland\, New Zealand
END:VEVENT
BEGIN:VEVENT
DTSTART;TZID=Pacific/Auckland:20250323T100000
DTEND;TZID=Pacific/Auckland:20250323T130000
DTSTAMP:20260424T133848
CREATED:20250224T092136Z
LAST-MODIFIED:20250224T092136Z
UID:1806-1742724000-1742734800@atba.nz
SUMMARY:City Vihara Open Day
DESCRIPTION:The regular Open Day at the City Vihara is on the 4th Sunday of each month\, starting at 10.00 am. The programme is as follows: \n\nTaking of 5 precepts\nOffering alms food to Sangha from Vimutti Monastery\nShared meal\nDhamma reflections/meditation or Q&A
URL:https://atba.nz/event/city-vihara-open-day-9/
LOCATION:Auckland Buddhist Vihara\, 29 Harris Rd\, Mt Wellington\, Auckland\, New Zealand
END:VEVENT
BEGIN:VEVENT
DTSTART;TZID=Pacific/Auckland:20250323T183000
DTEND;TZID=Pacific/Auckland:20250323T200000
DTSTAMP:20260424T133848
CREATED:20250224T092435Z
LAST-MODIFIED:20250224T092435Z
UID:1810-1742754600-1742760000@atba.nz
SUMMARY:Sangha-led Evening Puja\, Meditation and Dhamma Talk
DESCRIPTION:Sangha from Vimutti Buddhist Monastery is leading the evening’s proceedings. \nYou can participate in person at the Vihara or via this Zoom link: https://us06web.zoom.us/j/86719656283?pwd=MTExZWk0OGRRNjAwRjhCcTgzZ2pLdz09 \nMeeting ID: 867 1965 6283\nPasscode: 0272042234
URL:https://atba.nz/event/sangha-led-evening-puja-meditation-and-dhamma-talk-11/
LOCATION:Auckland Buddhist Vihara\, 29 Harris Rd\, Mt Wellington\, Auckland\, New Zealand
END:VEVENT
BEGIN:VEVENT
DTSTART;TZID=Pacific/Auckland:20250330T183000
DTEND;TZID=Pacific/Auckland:20250330T200000
DTSTAMP:20260424T133848
CREATED:20250224T091753Z
LAST-MODIFIED:20250329T052201Z
UID:1803-1743359400-1743364800@atba.nz
SUMMARY:Sangha-led Evening Puja\, Meditation and Dhamma Talk
DESCRIPTION:We are grateful that Bhante Guttasila has agreed to be with us on Sunday evening\, 30 March\, for the puja and meditation\, and he will be giving a dhamma talk. The programme is from 6.30 to 8.00 pm. \nThe lay community can participate in person at the Vihara or via this Zoom link: https://us06web.zoom.us/j/86719656283?pwd=MTExZWk0OGRRNjAwRjhCcTgzZ2pLdz09 \nMeeting ID: 867 1965 6283\nPasscode: 0272042234
URL:https://atba.nz/event/evening-puja-meditation-and-dhamma-talk-39/
LOCATION:Auckland Buddhist Vihara\, 29 Harris Rd\, Mt Wellington\, Auckland\, New Zealand
END:VEVENT
END:VCALENDAR