BEGIN:VCALENDAR
VERSION:2.0
PRODID:-// - ECPv6.15.20//NONSGML v1.0//EN
CALSCALE:GREGORIAN
METHOD:PUBLISH
X-ORIGINAL-URL:https://atba.nz
X-WR-CALDESC:Events for 
REFRESH-INTERVAL;VALUE=DURATION:PT1H
X-Robots-Tag:noindex
X-PUBLISHED-TTL:PT1H
BEGIN:VTIMEZONE
TZID:Pacific/Auckland
BEGIN:STANDARD
TZOFFSETFROM:+1300
TZOFFSETTO:+1200
TZNAME:NZST
DTSTART:20240406T140000
END:STANDARD
BEGIN:DAYLIGHT
TZOFFSETFROM:+1200
TZOFFSETTO:+1300
TZNAME:NZDT
DTSTART:20240928T140000
END:DAYLIGHT
BEGIN:STANDARD
TZOFFSETFROM:+1300
TZOFFSETTO:+1200
TZNAME:NZST
DTSTART:20250405T140000
END:STANDARD
BEGIN:DAYLIGHT
TZOFFSETFROM:+1200
TZOFFSETTO:+1300
TZNAME:NZDT
DTSTART:20250927T140000
END:DAYLIGHT
BEGIN:STANDARD
TZOFFSETFROM:+1300
TZOFFSETTO:+1200
TZNAME:NZST
DTSTART:20260404T140000
END:STANDARD
BEGIN:DAYLIGHT
TZOFFSETFROM:+1200
TZOFFSETTO:+1300
TZNAME:NZDT
DTSTART:20260926T140000
END:DAYLIGHT
END:VTIMEZONE
BEGIN:VEVENT
DTSTART;TZID=Pacific/Auckland:20250201T100000
DTEND;TZID=Pacific/Auckland:20250201T160000
DTSTAMP:20260424T155251
CREATED:20250129T090452Z
LAST-MODIFIED:20250129T090452Z
UID:1759-1738404000-1738425600@atba.nz
SUMMARY:Working Bee
DESCRIPTION:This is a day to help with maintenance and upkeep of Vimutti monastery. You can join any time from 10:00 am onwards. Please wear suitable work attire and bring a packed lunch. The following items may be helpful to bring along: \n\n\n\nwater\nwork gloves\nhat\ngumboots\n\n\n\nJoin us for this opportunity of merit making.
URL:https://atba.nz/event/working-bee-11/
LOCATION:Vimutti Buddhist Monastery\, 750 Paparata Road Bombay\, Auckland\, 2343\, New Zealand
END:VEVENT
BEGIN:VEVENT
DTSTART;TZID=Pacific/Auckland:20250202T183000
DTEND;TZID=Pacific/Auckland:20250202T200000
DTSTAMP:20260424T155251
CREATED:20250129T090643Z
LAST-MODIFIED:20250129T090658Z
UID:1761-1738521000-1738526400@atba.nz
SUMMARY:Evening Puja\, Meditation and Dhamma Talk
DESCRIPTION:The lay community can participate in person at the Vihara or via this Zoom link: https://us06web.zoom.us/j/86719656283?pwd=MTExZWk0OGRRNjAwRjhCcTgzZ2pLdz09 \nMeeting ID: 867 1965 6283\nPasscode: 0272042234
URL:https://atba.nz/event/evening-puja-meditation-and-dhamma-talk-33/
LOCATION:Auckland Buddhist Vihara\, 29 Harris Rd\, Mt Wellington\, Auckland\, New Zealand
END:VEVENT
BEGIN:VEVENT
DTSTART;TZID=Pacific/Auckland:20250208T130000
DTEND;TZID=Pacific/Auckland:20250208T170000
DTSTAMP:20260424T155251
CREATED:20250129T091251Z
LAST-MODIFIED:20250129T091251Z
UID:1764-1739019600-1739034000@atba.nz
SUMMARY:Meditation Workshop
DESCRIPTION:This is a monthly meditation workshop at Vimutti Buddhist Monastery. Bhikkhu Sukhacitto\, who is visiting Vimutti\, has accepted our invitation to be with us at the workshop. All are welcome. Come for an afternoon of practice.
URL:https://atba.nz/event/meditation-workshop-13/
LOCATION:Vimutti Buddhist Monastery\, 750 Paparata Road Bombay\, Auckland\, 2343\, New Zealand
END:VEVENT
BEGIN:VEVENT
DTSTART;TZID=Pacific/Auckland:20250209T183000
DTEND;TZID=Pacific/Auckland:20250209T200000
DTSTAMP:20260424T155251
CREATED:20250129T091449Z
LAST-MODIFIED:20250129T091449Z
UID:1766-1739125800-1739131200@atba.nz
SUMMARY:Evening Puja\, Meditation and Dhamma Talk
DESCRIPTION:The lay community can participate in person at the Vihara or via this Zoom link: https://us06web.zoom.us/j/86719656283?pwd=MTExZWk0OGRRNjAwRjhCcTgzZ2pLdz09 \nMeeting ID: 867 1965 6283\nPasscode: 0272042234
URL:https://atba.nz/event/evening-puja-meditation-and-dhamma-talk-34/
LOCATION:Auckland Buddhist Vihara\, 29 Harris Rd\, Mt Wellington\, Auckland\, New Zealand
END:VEVENT
BEGIN:VEVENT
DTSTART;TZID=Pacific/Auckland:20250216T100000
DTEND;TZID=Pacific/Auckland:20250216T130000
DTSTAMP:20260424T155251
CREATED:20250129T091654Z
LAST-MODIFIED:20250129T091654Z
UID:1770-1739700000-1739710800@atba.nz
SUMMARY:Vimutti Open Day
DESCRIPTION:The Open Day at Vimutti Buddhist Monastery is an important monthly event where the lay community get to meet the Venerable monks and devote time for dhamma learning and practice under their guidance. \n\nTaking of 5 precepts\nOffering alms food to monks\nShared meal\nDhamma reflections/meditation or Q&A
URL:https://atba.nz/event/vimutti-open-day-8/
LOCATION:Vimutti Buddhist Monastery\, 750 Paparata Road Bombay\, Auckland\, 2343\, New Zealand
END:VEVENT
BEGIN:VEVENT
DTSTART;TZID=Pacific/Auckland:20250216T183000
DTEND;TZID=Pacific/Auckland:20250216T200000
DTSTAMP:20260424T155251
CREATED:20250129T091814Z
LAST-MODIFIED:20250129T091814Z
UID:1772-1739730600-1739736000@atba.nz
SUMMARY:Evening Puja\, Meditation and Dhamma Talk
DESCRIPTION:The lay community can participate in person at the Vihara or via this Zoom link: https://us06web.zoom.us/j/86719656283?pwd=MTExZWk0OGRRNjAwRjhCcTgzZ2pLdz09 \nMeeting ID: 867 1965 6283\nPasscode: 0272042234
URL:https://atba.nz/event/evening-puja-meditation-and-dhamma-talk-35/
LOCATION:Auckland Buddhist Vihara\, 29 Harris Rd\, Mt Wellington\, Auckland\, New Zealand
END:VEVENT
BEGIN:VEVENT
DTSTART;TZID=Pacific/Auckland:20250223T100000
DTEND;TZID=Pacific/Auckland:20250223T130000
DTSTAMP:20260424T155251
CREATED:20250129T092039Z
LAST-MODIFIED:20250129T092039Z
UID:1775-1740304800-1740315600@atba.nz
SUMMARY:City Vihara Open Day
DESCRIPTION:The regular Open Day at the City Vihara is on the 4th Sunday of each month\, starting at 10.00 am. The programme is as follows: \n\nTaking of 5 precepts\nOffering alms food to Sangha from Vimutti Monastery\nShared meal\nDhamma reflections/meditation or Q&A
URL:https://atba.nz/event/city-vihara-open-day-8/
LOCATION:Auckland Buddhist Vihara\, 29 Harris Rd\, Mt Wellington\, Auckland\, New Zealand
END:VEVENT
BEGIN:VEVENT
DTSTART;TZID=Pacific/Auckland:20250223T183000
DTEND;TZID=Pacific/Auckland:20250223T200000
DTSTAMP:20260424T155251
CREATED:20250129T092307Z
LAST-MODIFIED:20250129T092307Z
UID:1778-1740335400-1740340800@atba.nz
SUMMARY:Sangha-led Evening Puja\, Meditation and Dhamma Talk
DESCRIPTION:Sangha from Vimutti Buddhist Monastery is leading the evening’s proceedings. \nYou can participate in person at the Vihara or via this Zoom link: https://us06web.zoom.us/j/86719656283?pwd=MTExZWk0OGRRNjAwRjhCcTgzZ2pLdz09 \nMeeting ID: 867 1965 6283\nPasscode: 0272042234
URL:https://atba.nz/event/sangha-led-evening-puja-meditation-and-dhamma-talk-10/
LOCATION:Auckland Buddhist Vihara\, 29 Harris Rd\, Mt Wellington\, Auckland\, New Zealand
END:VEVENT
BEGIN:VEVENT
DTSTART;TZID=Pacific/Auckland:20250301T100000
DTEND;TZID=Pacific/Auckland:20250301T160000
DTSTAMP:20260424T155251
CREATED:20250224T090355Z
LAST-MODIFIED:20250224T090355Z
UID:1785-1740823200-1740844800@atba.nz
SUMMARY:Working Bee
DESCRIPTION:This is a day to help with maintenance and upkeep of Vimutti monastery. You can join any time from 10:00 am onwards. Please wear suitable work attire and bring a packed lunch. The following items may be helpful to bring along: \n\n\n\nwater\nwork gloves\nhat\ngumboots\n\n\n\nJoin us for this opportunity of merit making.
URL:https://atba.nz/event/working-bee-12/
LOCATION:Vimutti Buddhist Monastery\, 750 Paparata Road Bombay\, Auckland\, 2343\, New Zealand
END:VEVENT
END:VCALENDAR