BEGIN:VCALENDAR
VERSION:2.0
PRODID:-// - ECPv6.15.20//NONSGML v1.0//EN
CALSCALE:GREGORIAN
METHOD:PUBLISH
X-ORIGINAL-URL:https://atba.nz
X-WR-CALDESC:Events for 
REFRESH-INTERVAL;VALUE=DURATION:PT1H
X-Robots-Tag:noindex
X-PUBLISHED-TTL:PT1H
BEGIN:VTIMEZONE
TZID:Pacific/Auckland
BEGIN:STANDARD
TZOFFSETFROM:+1300
TZOFFSETTO:+1200
TZNAME:NZST
DTSTART:20230401T140000
END:STANDARD
BEGIN:DAYLIGHT
TZOFFSETFROM:+1200
TZOFFSETTO:+1300
TZNAME:NZDT
DTSTART:20230923T140000
END:DAYLIGHT
BEGIN:STANDARD
TZOFFSETFROM:+1300
TZOFFSETTO:+1200
TZNAME:NZST
DTSTART:20240406T140000
END:STANDARD
BEGIN:DAYLIGHT
TZOFFSETFROM:+1200
TZOFFSETTO:+1300
TZNAME:NZDT
DTSTART:20240928T140000
END:DAYLIGHT
BEGIN:STANDARD
TZOFFSETFROM:+1300
TZOFFSETTO:+1200
TZNAME:NZST
DTSTART:20250405T140000
END:STANDARD
BEGIN:DAYLIGHT
TZOFFSETFROM:+1200
TZOFFSETTO:+1300
TZNAME:NZDT
DTSTART:20250927T140000
END:DAYLIGHT
END:VTIMEZONE
BEGIN:VEVENT
DTSTART;TZID=Pacific/Auckland:20241102T100000
DTEND;TZID=Pacific/Auckland:20241102T160000
DTSTAMP:20260424T210346
CREATED:20241027T024348Z
LAST-MODIFIED:20241027T024936Z
UID:989-1730541600-1730563200@atba.nz
SUMMARY:Working Bee
DESCRIPTION:This is a day to help with maintenance and upkeep of Vimutti monastery. You can join us any time from 10:00 am onwards. Please wear suitable work attire and bring a packed lunch. The following items may be helpful to bring along: \n\n\n\nwater\nwork gloves\nhat\ngumboots
URL:https://atba.nz/event/working-bee-8/
LOCATION:Vimutti Buddhist Monastery\, 750 Paparata Road Bombay\, Auckland\, 2343\, New Zealand
END:VEVENT
BEGIN:VEVENT
DTSTART;TZID=Pacific/Auckland:20241103T183000
DTEND;TZID=Pacific/Auckland:20241103T200000
DTSTAMP:20260424T210346
CREATED:20241027T024829Z
LAST-MODIFIED:20241027T024829Z
UID:991-1730658600-1730664000@atba.nz
SUMMARY:Evening Puja\, Meditation and Dhamma Talk
DESCRIPTION:The lay community can participate in person at the Vihara or via this Zoom link: https://us06web.zoom.us/j/86719656283?pwd=MTExZWk0OGRRNjAwRjhCcTgzZ2pLdz09 \nMeeting ID: 867 1965 6283\nPasscode: 0272042234
URL:https://atba.nz/event/evening-puja-meditation-and-dhamma-talk-23/
LOCATION:Auckland Buddhist Vihara\, 29 Harris Rd\, Mt Wellington\, Auckland\, New Zealand
END:VEVENT
BEGIN:VEVENT
DTSTART;TZID=Pacific/Auckland:20241110T100000
DTEND;TZID=Pacific/Auckland:20241110T140000
DTSTAMP:20260424T210346
CREATED:20241027T025353Z
LAST-MODIFIED:20241027T025353Z
UID:1005-1731232800-1731247200@atba.nz
SUMMARY:Vimutti Open Day
DESCRIPTION:Every second Sunday at Vimutti Buddhist Monastery: \n\nTaking of 5 precepts\nOffering alms food to monks\nShared meal\nDhamma reflections/meditation or Q&A
URL:https://atba.nz/event/vimutti-open-day-5/
LOCATION:Vimutti Buddhist Monastery\, 750 Paparata Road Bombay\, Auckland\, 2343\, New Zealand
END:VEVENT
BEGIN:VEVENT
DTSTART;TZID=Pacific/Auckland:20241110T183000
DTEND;TZID=Pacific/Auckland:20241110T200000
DTSTAMP:20260424T210346
CREATED:20241027T024846Z
LAST-MODIFIED:20241027T024846Z
UID:993-1731263400-1731268800@atba.nz
SUMMARY:Evening Puja\, Meditation and Dhamma Talk
DESCRIPTION:The lay community can participate in person at the Vihara or via this Zoom link: https://us06web.zoom.us/j/86719656283?pwd=MTExZWk0OGRRNjAwRjhCcTgzZ2pLdz09 \nMeeting ID: 867 1965 6283\nPasscode: 0272042234
URL:https://atba.nz/event/evening-puja-meditation-and-dhamma-talk-24/
LOCATION:Auckland Buddhist Vihara\, 29 Harris Rd\, Mt Wellington\, Auckland\, New Zealand
END:VEVENT
BEGIN:VEVENT
DTSTART;TZID=Pacific/Auckland:20241116T130000
DTEND;TZID=Pacific/Auckland:20241116T170000
DTSTAMP:20260424T210346
CREATED:20241027T025103Z
LAST-MODIFIED:20241027T025103Z
UID:1003-1731762000-1731776400@atba.nz
SUMMARY:Meditation Workshop
DESCRIPTION:Every 3rd Saturday at Vimutti Buddhist Monastery. All are welcome. Come for all or part.
URL:https://atba.nz/event/meditation-workshop-10/
LOCATION:Vimutti Buddhist Monastery\, 750 Paparata Road Bombay\, Auckland\, 2343\, New Zealand
END:VEVENT
BEGIN:VEVENT
DTSTART;TZID=Pacific/Auckland:20241117T183000
DTEND;TZID=Pacific/Auckland:20241117T183000
DTSTAMP:20260424T210346
CREATED:20241027T024902Z
LAST-MODIFIED:20241027T024902Z
UID:995-1731868200-1731868200@atba.nz
SUMMARY:Evening Puja\, Meditation and Dhamma Talk
DESCRIPTION:The lay community can participate in person at the Vihara or via this Zoom link: https://us06web.zoom.us/j/86719656283?pwd=MTExZWk0OGRRNjAwRjhCcTgzZ2pLdz09 \nMeeting ID: 867 1965 6283\nPasscode: 0272042234
URL:https://atba.nz/event/evening-puja-meditation-and-dhamma-talk-25/
LOCATION:Auckland Buddhist Vihara\, 29 Harris Rd\, Mt Wellington\, Auckland\, New Zealand
END:VEVENT
BEGIN:VEVENT
DTSTART;TZID=Pacific/Auckland:20241124T183000
DTEND;TZID=Pacific/Auckland:20241124T183000
DTSTAMP:20260424T210346
CREATED:20241027T024916Z
LAST-MODIFIED:20241027T024916Z
UID:997-1732473000-1732473000@atba.nz
SUMMARY:Evening Puja\, Meditation and Dhamma Talk
DESCRIPTION:The lay community can participate in person at the Vihara or via this Zoom link: https://us06web.zoom.us/j/86719656283?pwd=MTExZWk0OGRRNjAwRjhCcTgzZ2pLdz09 \nMeeting ID: 867 1965 6283\nPasscode: 0272042234
URL:https://atba.nz/event/evening-puja-meditation-and-dhamma-talk-26/
LOCATION:Auckland Buddhist Vihara\, 29 Harris Rd\, Mt Wellington\, Auckland\, New Zealand
END:VEVENT
BEGIN:VEVENT
DTSTART;TZID=Pacific/Auckland:20241201T093000
DTEND;TZID=Pacific/Auckland:20241201T103000
DTSTAMP:20260424T210346
CREATED:20241125T013140Z
LAST-MODIFIED:20241125T013140Z
UID:1519-1733045400-1733049000@atba.nz
SUMMARY:ATBA Annual General Meeting
DESCRIPTION:The AGM will be held at the City Vihara on 1 December 2024 from 9:30 to 10:45 am. Notice of the AGM has been sent out by the Secretary to members\, including information on the agenda. Those who wish to participate and vote at the AGM must be current financial members of ATBA. \nThe AGM will be followed by the Open Day starting 10:45 am. \n 
URL:https://atba.nz/event/atba-annual-general-meeting/
LOCATION:Auckland Buddhist Vihara\, 29 Harris Rd\, Mt Wellington\, Auckland\, New Zealand
END:VEVENT
BEGIN:VEVENT
DTSTART;TZID=Pacific/Auckland:20241201T103000
DTEND;TZID=Pacific/Auckland:20241201T143000
DTSTAMP:20260424T210346
CREATED:20241125T014312Z
LAST-MODIFIED:20241125T014448Z
UID:1525-1733049000-1733063400@atba.nz
SUMMARY:City Vihara Open Day
DESCRIPTION:This month’s Open Day at the City Vihara is on 1 December\, and will start at 10.45 am after the conclusion of the AGM. The programme of the Open Day is as follows: \n\nTaking of 5 precepts\nOffering alms food to Sangha from Vimutti Monastery\nShared meal\nDhamma reflections/meditation or Q&A
URL:https://atba.nz/event/city-vihara-open-day-6/
LOCATION:Auckland Buddhist Vihara\, 29 Harris Rd\, Mt Wellington\, Auckland\, New Zealand
END:VEVENT
END:VCALENDAR