BEGIN:VCALENDAR
VERSION:2.0
PRODID:-// - ECPv6.15.20//NONSGML v1.0//EN
CALSCALE:GREGORIAN
METHOD:PUBLISH
X-ORIGINAL-URL:https://atba.nz
X-WR-CALDESC:Events for 
REFRESH-INTERVAL;VALUE=DURATION:PT1H
X-Robots-Tag:noindex
X-PUBLISHED-TTL:PT1H
BEGIN:VTIMEZONE
TZID:Pacific/Auckland
BEGIN:STANDARD
TZOFFSETFROM:+1300
TZOFFSETTO:+1200
TZNAME:NZST
DTSTART:20230401T140000
END:STANDARD
BEGIN:DAYLIGHT
TZOFFSETFROM:+1200
TZOFFSETTO:+1300
TZNAME:NZDT
DTSTART:20230923T140000
END:DAYLIGHT
BEGIN:STANDARD
TZOFFSETFROM:+1300
TZOFFSETTO:+1200
TZNAME:NZST
DTSTART:20240406T140000
END:STANDARD
BEGIN:DAYLIGHT
TZOFFSETFROM:+1200
TZOFFSETTO:+1300
TZNAME:NZDT
DTSTART:20240928T140000
END:DAYLIGHT
BEGIN:STANDARD
TZOFFSETFROM:+1300
TZOFFSETTO:+1200
TZNAME:NZST
DTSTART:20250405T140000
END:STANDARD
BEGIN:DAYLIGHT
TZOFFSETFROM:+1200
TZOFFSETTO:+1300
TZNAME:NZDT
DTSTART:20250927T140000
END:DAYLIGHT
END:VTIMEZONE
BEGIN:VTIMEZONE
TZID:UTC
BEGIN:STANDARD
TZOFFSETFROM:+0000
TZOFFSETTO:+0000
TZNAME:UTC
DTSTART:20230101T000000
END:STANDARD
END:VTIMEZONE
BEGIN:VEVENT
DTSTART;TZID=Pacific/Auckland:20240623T100000
DTEND;TZID=Pacific/Auckland:20240623T130000
DTSTAMP:20260425T164234
CREATED:20240525T044831Z
LAST-MODIFIED:20240525T044929Z
UID:699-1719136800-1719147600@atba.nz
SUMMARY:City Vihara Open Day
DESCRIPTION:Every 4th Sunday at the Harris Road Vihara: \n\nTaking of 5 precepts\nOffering alms food to monks\nShared meal\nDhamma reflections/meditation or Q&A
URL:https://atba.nz/event/city-vihara-open-day-2/
LOCATION:Auckland Buddhist Vihara\, 29 Harris Rd\, Mt Wellington\, Auckland\, New Zealand
END:VEVENT
BEGIN:VEVENT
DTSTART;TZID=Pacific/Auckland:20240623T183000
DTEND;TZID=Pacific/Auckland:20240623T200000
DTSTAMP:20260425T164234
CREATED:20240525T050115Z
LAST-MODIFIED:20240525T050415Z
UID:719-1719167400-1719172800@atba.nz
SUMMARY:Sangha-led Evening Puja\, Meditation and Dhamma Talk
DESCRIPTION:Sangha from Vimutti Buddhist Monastery will lead the puja. \nThe lay community can participate in person at the Vihara or via this Zoom link: https://us06web.zoom.us/j/86719656283?pwd=MTExZWk0OGRRNjAwRjhCcTgzZ2pLdz09 \nMeeting ID: 867 1965 6283\nPasscode: 0272042234
URL:https://atba.nz/event/evening-puja-meditation-and-dhamma-talk-11/
LOCATION:Auckland Buddhist Vihara\, 29 Harris Rd\, Mt Wellington\, Auckland\, New Zealand
END:VEVENT
BEGIN:VEVENT
DTSTART;TZID=Pacific/Auckland:20240630T183000
DTEND;TZID=Pacific/Auckland:20240630T200000
DTSTAMP:20260425T164234
CREATED:20240525T045805Z
LAST-MODIFIED:20240525T050338Z
UID:713-1719772200-1719777600@atba.nz
SUMMARY:Evening Puja\, Meditation and Dhamma Talk
DESCRIPTION:The lay community can participate in person at the Vihara or via this Zoom link: https://us06web.zoom.us/j/86719656283?pwd=MTExZWk0OGRRNjAwRjhCcTgzZ2pLdz09 \nMeeting ID: 867 1965 6283\nPasscode: 0272042234
URL:https://atba.nz/event/sangha-led-evening-puja-meditation-and-dhamma-talk-4/
LOCATION:Auckland Buddhist Vihara\, 29 Harris Rd\, Mt Wellington\, Auckland\, New Zealand
END:VEVENT
BEGIN:VEVENT
DTSTART;TZID=UTC:20240706T100000
DTEND;TZID=UTC:20240706T160000
DTSTAMP:20260425T164234
CREATED:20240630T043807Z
LAST-MODIFIED:20240630T043807Z
UID:761-1720260000-1720281600@atba.nz
SUMMARY:Working Bee
DESCRIPTION:This is a day to help with maintenance and upkeep of Vimutti monastery. You can join us any time from 10:00 am onwards. Please wear suitable work attire and bring a packed lunch. The following items may be helpful to bring along: \n\n\n\nwater\nwork gloves\nhat\ngumboots
URL:https://atba.nz/event/working-bee-5/
LOCATION:Vimutti Buddhist Monastery\, 750 Paparata Road Bombay\, Auckland\, 2343\, New Zealand
END:VEVENT
BEGIN:VEVENT
DTSTART;TZID=Pacific/Auckland:20240707T183000
DTEND;TZID=Pacific/Auckland:20240707T200000
DTSTAMP:20260425T164234
CREATED:20240630T044040Z
LAST-MODIFIED:20240630T050210Z
UID:763-1720377000-1720382400@atba.nz
SUMMARY:Evening Puja\, Meditation and Dhamma Talk
DESCRIPTION:The lay community can participate in person at the Vihara or via this Zoom link: https://us06web.zoom.us/j/86719656283?pwd=MTExZWk0OGRRNjAwRjhCcTgzZ2pLdz09 \nMeeting ID: 867 1965 6283\nPasscode: 0272042234
URL:https://atba.nz/event/evening-puja-meditation-and-dhamma-talk-12/
LOCATION:Auckland Buddhist Vihara\, 29 Harris Rd\, Mt Wellington\, Auckland\, New Zealand
END:VEVENT
BEGIN:VEVENT
DTSTART;TZID=Pacific/Auckland:20240714T100000
DTEND;TZID=Pacific/Auckland:20240714T140000
DTSTAMP:20260425T164234
CREATED:20240630T044235Z
LAST-MODIFIED:20240630T050144Z
UID:766-1720951200-1720965600@atba.nz
SUMMARY:Vimutti Open Day
DESCRIPTION:Every second Sunday at Vimutti Buddhist Monastery: \n\nTaking of 5 precepts\nOffering alms food to monks\nShared meal\nDhamma reflections/meditation or Q&A\n\nThere will be no Open Days at Vimutti during vassa\, which begins on 21 July.
URL:https://atba.nz/event/vimutti-open-day-4/
LOCATION:Auckland Buddhist Vihara\, 29 Harris Rd\, Mt Wellington\, Auckland\, New Zealand
END:VEVENT
BEGIN:VEVENT
DTSTART;TZID=Pacific/Auckland:20240714T183000
DTEND;TZID=Pacific/Auckland:20240714T200000
DTSTAMP:20260425T164234
CREATED:20240630T044652Z
LAST-MODIFIED:20240630T050106Z
UID:770-1720981800-1720987200@atba.nz
SUMMARY:Evening Puja\, Meditation and Dhamma Talk
DESCRIPTION:The lay community can participate in person at the Vihara or via this Zoom link: https://us06web.zoom.us/j/86719656283?pwd=MTExZWk0OGRRNjAwRjhCcTgzZ2pLdz09 \nMeeting ID: 867 1965 6283\nPasscode: 0272042234
URL:https://atba.nz/event/evening-puja-meditation-and-dhamma-talk-13/
LOCATION:Auckland Buddhist Vihara\, 29 Harris Rd\, Mt Wellington\, Auckland\, New Zealand
END:VEVENT
BEGIN:VEVENT
DTSTART;TZID=Pacific/Auckland:20240720T130000
DTEND;TZID=Pacific/Auckland:20240720T170000
DTSTAMP:20260425T164234
CREATED:20240630T044851Z
LAST-MODIFIED:20240630T050046Z
UID:773-1721480400-1721494800@atba.nz
SUMMARY:Meditation Workshop
DESCRIPTION:Every 3rd Saturday at Vimutti Buddhist Monastery. All are welcome. Come for all or part.
URL:https://atba.nz/event/meditation-workshop-6/
LOCATION:Vimutti Buddhist Monastery\, 750 Paparata Road Bombay\, Auckland\, 2343\, New Zealand
END:VEVENT
BEGIN:VEVENT
DTSTART;VALUE=DATE:20240721
DTEND;VALUE=DATE:20241018
DTSTAMP:20260425T164234
CREATED:20240630T050445Z
LAST-MODIFIED:20240821T150544Z
UID:775-1721520000-1729209599@atba.nz
SUMMARY:Vassa period
DESCRIPTION:The monks at Vimutti Monastery start observing vassa on 21 July\, Sunday. Traditionally known as the rains retreat\, the three-month vassa is the time when the monastic community stay put in one place and intensify their practice. For this purpose\, activities at the monastery will be less\, and Open Days at Vimutti Monastery will be suspended during this period. Vassa ends on 17 October 2024. \nRegular practitioners who wish to deepen their practice during vassa are welcome to visit the monastery for self-practice.
URL:https://atba.nz/event/vassa-commences/
LOCATION:Vimutti Buddhist Monastery\, 750 Paparata Road Bombay\, Auckland\, 2343\, New Zealand
END:VEVENT
BEGIN:VEVENT
DTSTART;TZID=Pacific/Auckland:20240721T100000
DTEND;TZID=Pacific/Auckland:20240721T130000
DTSTAMP:20260425T164234
CREATED:20240630T045859Z
LAST-MODIFIED:20240630T050005Z
UID:777-1721556000-1721566800@atba.nz
SUMMARY:City Vihara Open Day
DESCRIPTION:For this July\, Open Day at the Harris Road Vihara is on 3rd Sunday to coincide with commencement of vassa. The programme is unchanged: \n\nTaking of 5 precepts\nOffering alms food to monks\nShared meal\nDhamma reflections/meditation or Q&A
URL:https://atba.nz/event/city-vihara-open-day-3/
LOCATION:Auckland Buddhist Vihara\, 29 Harris Rd\, Mt Wellington\, Auckland\, New Zealand
END:VEVENT
BEGIN:VEVENT
DTSTART;TZID=Pacific/Auckland:20240721T183000
DTEND;TZID=Pacific/Auckland:20240721T200000
DTSTAMP:20260425T164234
CREATED:20240630T050750Z
LAST-MODIFIED:20240630T050750Z
UID:780-1721586600-1721592000@atba.nz
SUMMARY:Sangha-led Evening Puja\, Meditation and Dhamma Talk
DESCRIPTION:Sangha from Vimutti Buddhist Monastery will lead the puja. \nThe lay community can participate in person at the Vihara or via this Zoom link: https://us06web.zoom.us/j/86719656283?pwd=MTExZWk0OGRRNjAwRjhCcTgzZ2pLdz09 \nMeeting ID: 867 1965 6283\nPasscode: 0272042234
URL:https://atba.nz/event/sangha-led-evening-puja-meditation-and-dhamma-talk-5/
LOCATION:Auckland Buddhist Vihara\, 29 Harris Rd\, Mt Wellington\, Auckland\, New Zealand
END:VEVENT
BEGIN:VEVENT
DTSTART;TZID=Pacific/Auckland:20240728T183000
DTEND;TZID=Pacific/Auckland:20240728T200000
DTSTAMP:20260425T164234
CREATED:20240630T050924Z
LAST-MODIFIED:20240630T050924Z
UID:783-1722191400-1722196800@atba.nz
SUMMARY:Evening Puja\, Meditation and Dhamma Talk
DESCRIPTION:The lay community can participate in person at the Vihara or via this Zoom link: https://us06web.zoom.us/j/86719656283?pwd=MTExZWk0OGRRNjAwRjhCcTgzZ2pLdz09 \nMeeting ID: 867 1965 6283\nPasscode: 0272042234
URL:https://atba.nz/event/evening-puja-meditation-and-dhamma-talk-14/
LOCATION:Auckland Buddhist Vihara\, 29 Harris Rd\, Mt Wellington\, Auckland\, New Zealand
END:VEVENT
BEGIN:VEVENT
DTSTART;TZID=Pacific/Auckland:20240804T183000
DTEND;TZID=Pacific/Auckland:20240804T200000
DTSTAMP:20260425T164234
CREATED:20240803T095735Z
LAST-MODIFIED:20240803T095735Z
UID:853-1722796200-1722801600@atba.nz
SUMMARY:Evening Puja\, Meditation and Dhamma Talk
DESCRIPTION:The lay community can participate in person at the Vihara or via this Zoom link: https://us06web.zoom.us/j/86719656283?pwd=MTExZWk0OGRRNjAwRjhCcTgzZ2pLdz09 \nMeeting ID: 867 1965 6283\nPasscode: 0272042234
URL:https://atba.nz/event/evening-puja-meditation-and-dhamma-talk-15/
LOCATION:Auckland Buddhist Vihara\, 29 Harris Rd\, Mt Wellington\, Auckland\, New Zealand
END:VEVENT
BEGIN:VEVENT
DTSTART;TZID=Pacific/Auckland:20240810T100000
DTEND;TZID=Pacific/Auckland:20240810T160000
DTSTAMP:20260425T164234
CREATED:20240803T100037Z
LAST-MODIFIED:20240803T100037Z
UID:858-1723284000-1723305600@atba.nz
SUMMARY:Working Bee
DESCRIPTION:This is a day to help with maintenance and upkeep of Vimutti monastery. You can join us any time from 10:00 am onwards. Please wear suitable work attire and bring a packed lunch. The following items may be helpful to bring along: \n\n\n\nwater\nwork gloves\nhat\ngumboots
URL:https://atba.nz/event/working-bee-6/
LOCATION:Vimutti Buddhist Monastery\, 750 Paparata Road Bombay\, Auckland\, 2343\, New Zealand
END:VEVENT
BEGIN:VEVENT
DTSTART;TZID=Pacific/Auckland:20240811T183000
DTEND;TZID=Pacific/Auckland:20240811T200000
DTSTAMP:20260425T164234
CREATED:20240803T100239Z
LAST-MODIFIED:20240803T100239Z
UID:861-1723401000-1723406400@atba.nz
SUMMARY:Evening Puja\, Meditation and Dhamma Talk
DESCRIPTION:The lay community can participate in person at the Vihara or via this Zoom link: https://us06web.zoom.us/j/86719656283?pwd=MTExZWk0OGRRNjAwRjhCcTgzZ2pLdz09 \nMeeting ID: 867 1965 6283\nPasscode: 0272042234
URL:https://atba.nz/event/evening-puja-meditation-and-dhamma-talk-16/
LOCATION:Auckland Buddhist Vihara\, 29 Harris Rd\, Mt Wellington\, Auckland\, New Zealand
END:VEVENT
BEGIN:VEVENT
DTSTART;TZID=Pacific/Auckland:20240817T130000
DTEND;TZID=Pacific/Auckland:20240817T170000
DTSTAMP:20260425T164234
CREATED:20240803T100423Z
LAST-MODIFIED:20240803T100423Z
UID:865-1723899600-1723914000@atba.nz
SUMMARY:Meditation Workshop
DESCRIPTION:Every 3rd Saturday at Vimutti Buddhist Monastery. All are welcome. Come for all or part.
URL:https://atba.nz/event/meditation-workshop-7/
LOCATION:Vimutti Buddhist Monastery\, 750 Paparata Road Bombay\, Auckland\, 2343\, New Zealand
END:VEVENT
BEGIN:VEVENT
DTSTART;TZID=Pacific/Auckland:20240818T183000
DTEND;TZID=Pacific/Auckland:20240818T200000
DTSTAMP:20260425T164234
CREATED:20240803T100629Z
LAST-MODIFIED:20240803T100629Z
UID:868-1724005800-1724011200@atba.nz
SUMMARY:Evening Puja\, Meditation and Dhamma Talk
DESCRIPTION:The lay community can participate in person at the Vihara or via this Zoom link: https://us06web.zoom.us/j/86719656283?pwd=MTExZWk0OGRRNjAwRjhCcTgzZ2pLdz09 \nMeeting ID: 867 1965 6283\nPasscode: 0272042234
URL:https://atba.nz/event/evening-puja-meditation-and-dhamma-talk-17/
LOCATION:Auckland Buddhist Vihara\, 29 Harris Rd\, Mt Wellington\, Auckland\, New Zealand
END:VEVENT
BEGIN:VEVENT
DTSTART;TZID=Pacific/Auckland:20240825T100000
DTEND;TZID=Pacific/Auckland:20240825T130000
DTSTAMP:20260425T164234
CREATED:20240803T100922Z
LAST-MODIFIED:20240803T101008Z
UID:871-1724580000-1724590800@atba.nz
SUMMARY:City Vihara Open Day
DESCRIPTION:Every 4th Sunday at the Harris Road Vihara: \n\nTaking of 5 precepts\nOffering alms food to sangha from Vimutti Monastery\nShared meal\nDhamma reflections/meditation or Q&A
URL:https://atba.nz/event/city-vihara-open-day-4/
LOCATION:Auckland Buddhist Vihara\, 29 Harris Rd\, Mt Wellington\, Auckland\, New Zealand
END:VEVENT
BEGIN:VEVENT
DTSTART;TZID=Pacific/Auckland:20240825T183000
DTEND;TZID=Pacific/Auckland:20240825T200000
DTSTAMP:20260425T164234
CREATED:20240803T101218Z
LAST-MODIFIED:20240803T101218Z
UID:874-1724610600-1724616000@atba.nz
SUMMARY:Sangha-led Evening Puja\, Meditation and Dhamma Talk
DESCRIPTION:Sangha from Vimutti Buddhist Monastery is leading the puja. \nThe lay community can participate in person at the Vihara or via this Zoom link: https://us06web.zoom.us/j/86719656283?pwd=MTExZWk0OGRRNjAwRjhCcTgzZ2pLdz09 \nMeeting ID: 867 1965 6283\nPasscode: 0272042234
URL:https://atba.nz/event/sangha-led-evening-puja-meditation-and-dhamma-talk-6/
LOCATION:Auckland Buddhist Vihara\, 29 Harris Rd\, Mt Wellington\, Auckland\, New Zealand
END:VEVENT
BEGIN:VEVENT
DTSTART;TZID=Pacific/Auckland:20240921T130000
DTEND;TZID=Pacific/Auckland:20240921T170000
DTSTAMP:20260425T164234
CREATED:20240916T061346Z
LAST-MODIFIED:20240916T061346Z
UID:901-1726923600-1726938000@atba.nz
SUMMARY:Meditation Workshop
DESCRIPTION:Every 3rd Saturday at Vimutti Buddhist Monastery. All are welcome. Come for all or part.
URL:https://atba.nz/event/meditation-workshop-8/
LOCATION:Vimutti Buddhist Monastery\, 750 Paparata Road Bombay\, Auckland\, 2343\, New Zealand
END:VEVENT
BEGIN:VEVENT
DTSTART;TZID=Pacific/Auckland:20240922T183000
DTEND;TZID=Pacific/Auckland:20240922T200000
DTSTAMP:20260425T164234
CREATED:20240916T061558Z
LAST-MODIFIED:20240916T061558Z
UID:904-1727029800-1727035200@atba.nz
SUMMARY:Evening Puja\, Meditation and Dhamma Talk
DESCRIPTION:The lay community can participate in person at the Vihara or via this Zoom link: https://us06web.zoom.us/j/86719656283?pwd=MTExZWk0OGRRNjAwRjhCcTgzZ2pLdz09 \nMeeting ID: 867 1965 6283\nPasscode: 0272042234
URL:https://atba.nz/event/evening-puja-meditation-and-dhamma-talk-18/
LOCATION:Auckland Buddhist Vihara\, 29 Harris Rd\, Mt Wellington\, Auckland\, New Zealand
END:VEVENT
BEGIN:VEVENT
DTSTART;TZID=Pacific/Auckland:20240929T100000
DTEND;TZID=Pacific/Auckland:20240929T130000
DTSTAMP:20260425T164234
CREATED:20240916T061808Z
LAST-MODIFIED:20240916T061808Z
UID:907-1727604000-1727614800@atba.nz
SUMMARY:City Vihara Open Day
DESCRIPTION:Every 4th Sunday at the Harris Road Vihara: \n\nTaking of 5 precepts\nOffering alms food to sangha from Vimutti Monastery\nShared meal\nDhamma reflections/meditation or Q&A
URL:https://atba.nz/event/city-vihara-open-day-5/
LOCATION:Auckland Buddhist Vihara\, 29 Harris Rd\, Mt Wellington\, Auckland\, New Zealand
END:VEVENT
BEGIN:VEVENT
DTSTART;TZID=Pacific/Auckland:20240929T183000
DTEND;TZID=Pacific/Auckland:20240929T200000
DTSTAMP:20260425T164234
CREATED:20240916T062003Z
LAST-MODIFIED:20240916T062003Z
UID:910-1727634600-1727640000@atba.nz
SUMMARY:Sangha-led Evening Puja\, Meditation and Dhamma Talk
DESCRIPTION:Sangha from Vimutti Buddhist Monastery is leading the puja. \nThe lay community can participate in person at the Vihara or via this Zoom link: https://us06web.zoom.us/j/86719656283?pwd=MTExZWk0OGRRNjAwRjhCcTgzZ2pLdz09 \nMeeting ID: 867 1965 6283\nPasscode: 0272042234
URL:https://atba.nz/event/sangha-led-evening-puja-meditation-and-dhamma-talk-7/
LOCATION:Auckland Buddhist Vihara\, 29 Harris Rd\, Mt Wellington\, Auckland\, New Zealand
END:VEVENT
BEGIN:VEVENT
DTSTART;TZID=Pacific/Auckland:20241005T100000
DTEND;TZID=Pacific/Auckland:20241005T160000
DTSTAMP:20260425T164234
CREATED:20241004T015142Z
LAST-MODIFIED:20241004T015142Z
UID:913-1728122400-1728144000@atba.nz
SUMMARY:Working Bee
DESCRIPTION:This is a day to help with maintenance and upkeep of Vimutti monastery. You can join us any time from 10:00 am onwards. Please wear suitable work attire and bring a packed lunch. The following items may be helpful to bring along: \n\n\n\nwater\nwork gloves\nhat\ngumboots
URL:https://atba.nz/event/working-bee-7/
LOCATION:Vimutti Buddhist Monastery\, 750 Paparata Road Bombay\, Auckland\, 2343\, New Zealand
END:VEVENT
BEGIN:VEVENT
DTSTART;TZID=Pacific/Auckland:20241006T183000
DTEND;TZID=Pacific/Auckland:20241006T200000
DTSTAMP:20260425T164234
CREATED:20241004T015344Z
LAST-MODIFIED:20241004T015344Z
UID:915-1728239400-1728244800@atba.nz
SUMMARY:Evening Puja\, Meditation and Dhamma Talk
DESCRIPTION:The lay community can participate in person at the Vihara or via this Zoom link: https://us06web.zoom.us/j/86719656283?pwd=MTExZWk0OGRRNjAwRjhCcTgzZ2pLdz09 \nMeeting ID: 867 1965 6283\nPasscode: 0272042234
URL:https://atba.nz/event/evening-puja-meditation-and-dhamma-talk-19/
LOCATION:Auckland Buddhist Vihara\, 29 Harris Rd\, Mt Wellington\, Auckland\, New Zealand
END:VEVENT
BEGIN:VEVENT
DTSTART;TZID=Pacific/Auckland:20241013T183000
DTEND;TZID=Pacific/Auckland:20241013T200000
DTSTAMP:20260425T164234
CREATED:20241004T015537Z
LAST-MODIFIED:20241004T015537Z
UID:918-1728844200-1728849600@atba.nz
SUMMARY:Evening Puja\, Meditation and Dhamma Talk
DESCRIPTION:The lay community can participate in person at the Vihara or via this Zoom link: https://us06web.zoom.us/j/86719656283?pwd=MTExZWk0OGRRNjAwRjhCcTgzZ2pLdz09 \nMeeting ID: 867 1965 6283\nPasscode: 0272042234
URL:https://atba.nz/event/evening-puja-meditation-and-dhamma-talk-20/
LOCATION:Auckland Buddhist Vihara\, 29 Harris Rd\, Mt Wellington\, Auckland\, New Zealand
END:VEVENT
BEGIN:VEVENT
DTSTART;TZID=Pacific/Auckland:20241017T000000
DTEND;TZID=Pacific/Auckland:20241017T000000
DTSTAMP:20260425T164234
CREATED:20240821T145914Z
LAST-MODIFIED:20240821T150855Z
UID:888-1729123200-1729123200@atba.nz
SUMMARY:Vassa ends
DESCRIPTION:Vassa\, or rains retreat\, ends on 17 October 2024 (Thursday). ATBA activities will return to normal\, with Open Days at Vimutti Monastery on second Sundays\, Meditation Workshops at Vimutti on third Saturdays\, and Open Days at the City Vihara on fourth Sundays.
URL:https://atba.nz/event/vassa-ends/
LOCATION:Vimutti Buddhist Monastery\, 750 Paparata Road Bombay\, Auckland\, 2343\, New Zealand
END:VEVENT
BEGIN:VEVENT
DTSTART;TZID=Pacific/Auckland:20241019T130000
DTEND;TZID=Pacific/Auckland:20241019T170000
DTSTAMP:20260425T164234
CREATED:20241004T020441Z
LAST-MODIFIED:20241004T020441Z
UID:927-1729342800-1729357200@atba.nz
SUMMARY:Meditation Workshop
DESCRIPTION:Every 3rd Saturday at Vimutti Buddhist Monastery. All are welcome. Come for all or part.
URL:https://atba.nz/event/meditation-workshop-9/
LOCATION:Vimutti Buddhist Monastery\, 750 Paparata Road Bombay\, Auckland\, 2343\, New Zealand
END:VEVENT
BEGIN:VEVENT
DTSTART;TZID=Pacific/Auckland:20241020T183000
DTEND;TZID=Pacific/Auckland:20241020T200000
DTSTAMP:20260425T164234
CREATED:20241004T015859Z
LAST-MODIFIED:20241004T015859Z
UID:921-1729449000-1729454400@atba.nz
SUMMARY:Evening Puja\, Meditation and Dhamma Talk
DESCRIPTION:The lay community can participate in person at the Vihara or via this Zoom link: https://us06web.zoom.us/j/86719656283?pwd=MTExZWk0OGRRNjAwRjhCcTgzZ2pLdz09 \nMeeting ID: 867 1965 6283\nPasscode: 0272042234
URL:https://atba.nz/event/evening-puja-meditation-and-dhamma-talk-21/
LOCATION:Auckland Buddhist Vihara\, 29 Harris Rd\, Mt Wellington\, Auckland\, New Zealand
END:VEVENT
BEGIN:VEVENT
DTSTART;TZID=Pacific/Auckland:20241026T090000
DTEND;TZID=Pacific/Auckland:20241026T140000
DTSTAMP:20260425T164234
CREATED:20241004T021238Z
LAST-MODIFIED:20241004T021736Z
UID:929-1729933200-1729951200@atba.nz
SUMMARY:Kathina Season Celebration
DESCRIPTION:Vimutti Buddhist Monastery will be marking the end of vassa with the Kathina Season Celebration\, which will be held on Saturday\, 26 October 2024\, from 9am to 2pm. \nProgramme: \n\nTaking 5 precepts\nPindapat and shared meal\nBlessings and dhamma reflection\nRobe offerings\n\nGoing back to the days of the Buddha\, Kathina is traditionally one of the most significant occasions for making merits in the year. All donations go towards construction of shower blocks for Vimutti Sangha and residents. ATBA bank account BNZ 02-0192-0469144-00 Ref: Kathina.
URL:https://atba.nz/event/kathina-season-celebration/
LOCATION:Vimutti Buddhist Monastery\, 750 Paparata Road Bombay\, Auckland\, 2343\, New Zealand
END:VEVENT
END:VCALENDAR