BEGIN:VCALENDAR
VERSION:2.0
PRODID:-// - ECPv6.15.20//NONSGML v1.0//EN
CALSCALE:GREGORIAN
METHOD:PUBLISH
X-ORIGINAL-URL:https://atba.nz
X-WR-CALDESC:Events for 
REFRESH-INTERVAL;VALUE=DURATION:PT1H
X-Robots-Tag:noindex
X-PUBLISHED-TTL:PT1H
BEGIN:VTIMEZONE
TZID:Pacific/Auckland
BEGIN:STANDARD
TZOFFSETFROM:+1300
TZOFFSETTO:+1200
TZNAME:NZST
DTSTART:20240406T140000
END:STANDARD
BEGIN:DAYLIGHT
TZOFFSETFROM:+1200
TZOFFSETTO:+1300
TZNAME:NZDT
DTSTART:20240928T140000
END:DAYLIGHT
BEGIN:STANDARD
TZOFFSETFROM:+1300
TZOFFSETTO:+1200
TZNAME:NZST
DTSTART:20250405T140000
END:STANDARD
BEGIN:DAYLIGHT
TZOFFSETFROM:+1200
TZOFFSETTO:+1300
TZNAME:NZDT
DTSTART:20250927T140000
END:DAYLIGHT
BEGIN:STANDARD
TZOFFSETFROM:+1300
TZOFFSETTO:+1200
TZNAME:NZST
DTSTART:20260404T140000
END:STANDARD
BEGIN:DAYLIGHT
TZOFFSETFROM:+1200
TZOFFSETTO:+1300
TZNAME:NZDT
DTSTART:20260926T140000
END:DAYLIGHT
BEGIN:STANDARD
TZOFFSETFROM:+1300
TZOFFSETTO:+1200
TZNAME:NZST
DTSTART:20270403T140000
END:STANDARD
BEGIN:DAYLIGHT
TZOFFSETFROM:+1200
TZOFFSETTO:+1300
TZNAME:NZDT
DTSTART:20270925T140000
END:DAYLIGHT
END:VTIMEZONE
BEGIN:VEVENT
DTSTART;TZID=Pacific/Auckland:20260215T183000
DTEND;TZID=Pacific/Auckland:20260215T200000
DTSTAMP:20260423T221815
CREATED:20260203T104216Z
LAST-MODIFIED:20260203T105615Z
UID:2238-1771180200-1771185600@atba.nz
SUMMARY:Vihara Evening Puja\, Meditation & Dhamma Talk
DESCRIPTION:The weekly Sunday evening puja starts off with chanting\, followed by a group meditation sitting and a dhamma talk. \nThe lay community can participate in person at the Vihara or via this Zoom link: https://us06web.zoom.us/j/86719656283?pwd=MTExZWk0OGRRNjAwRjhCcTgzZ2pLdz09 \nMeeting ID: 867 1965 6283\nPasscode: 0272042234
URL:https://atba.nz/event/evening-puja-meditation-dhamma-talk-25/
LOCATION:Auckland Buddhist Vihara\, 29 Harris Rd\, Mt Wellington\, Auckland\, New Zealand
END:VEVENT
BEGIN:VEVENT
DTSTART;TZID=Pacific/Auckland:20260214T130000
DTEND;TZID=Pacific/Auckland:20260214T170000
DTSTAMP:20260423T221815
CREATED:20260203T104716Z
LAST-MODIFIED:20260203T105439Z
UID:2250-1771074000-1771088400@atba.nz
SUMMARY:Vimutti Meditation Workshop
DESCRIPTION:This is a monthly meditation workshop at Vimutti Buddhist Monastery led by the resident Sangha. All are welcome. Come for an afternoon of practice.
URL:https://atba.nz/event/meditation-workshop-20/
LOCATION:Vimutti Buddhist Monastery\, 750 Paparata Road Bombay\, Auckland\, 2343\, New Zealand
END:VEVENT
BEGIN:VEVENT
DTSTART;TZID=Pacific/Auckland:20260208T183000
DTEND;TZID=Pacific/Auckland:20260208T200000
DTSTAMP:20260423T221815
CREATED:20260203T104226Z
LAST-MODIFIED:20260203T105635Z
UID:2236-1770575400-1770580800@atba.nz
SUMMARY:Vihara Evening Puja\, Meditation & Dhamma Talk
DESCRIPTION:The weekly Sunday evening puja starts off with chanting\, followed by a group meditation sitting and a dhamma talk. \nThe lay community can participate in person at the Vihara or via this Zoom link: https://us06web.zoom.us/j/86719656283?pwd=MTExZWk0OGRRNjAwRjhCcTgzZ2pLdz09 \nMeeting ID: 867 1965 6283\nPasscode: 0272042234
URL:https://atba.nz/event/evening-puja-meditation-dhamma-talk-26/
LOCATION:Auckland Buddhist Vihara\, 29 Harris Rd\, Mt Wellington\, Auckland\, New Zealand
END:VEVENT
BEGIN:VEVENT
DTSTART;TZID=Pacific/Auckland:20260207T100000
DTEND;TZID=Pacific/Auckland:20260207T160000
DTSTAMP:20260423T221815
CREATED:20260203T104844Z
LAST-MODIFIED:20260203T105422Z
UID:2252-1770458400-1770480000@atba.nz
SUMMARY:Vimutti Working Bee
DESCRIPTION:This is a day to help with maintenance and upkeep of Vimutti monastery. You can join any time from 10:00 am onwards. Please wear suitable work attire and bring a packed lunch. The following items may be helpful to bring along: \n\n\n\nwater\nwork gloves\nhat\ngumboots\n\n\n\nJoin us for this opportunity of merit making.
URL:https://atba.nz/event/working-bee-22/
LOCATION:Vimutti Buddhist Monastery\, 750 Paparata Road Bombay\, Auckland\, 2343\, New Zealand
END:VEVENT
BEGIN:VEVENT
DTSTART;TZID=Pacific/Auckland:20260201T183000
DTEND;TZID=Pacific/Auckland:20260201T200000
DTSTAMP:20260423T221815
CREATED:20260203T104245Z
LAST-MODIFIED:20260203T105652Z
UID:2234-1769970600-1769976000@atba.nz
SUMMARY:Vihara Evening Puja\, Meditation & Dhamma Talk
DESCRIPTION:The weekly Sunday evening puja starts off with chanting\, followed by a group meditation sitting and a dhamma talk. \nThe lay community can participate in person at the Vihara or via this Zoom link: https://us06web.zoom.us/j/86719656283?pwd=MTExZWk0OGRRNjAwRjhCcTgzZ2pLdz09 \nMeeting ID: 867 1965 6283\nPasscode: 0272042234
URL:https://atba.nz/event/evening-puja-meditation-dhamma-talk-27/
LOCATION:Auckland Buddhist Vihara\, 29 Harris Rd\, Mt Wellington\, Auckland\, New Zealand
END:VEVENT
BEGIN:VEVENT
DTSTART;TZID=Pacific/Auckland:20260201T100000
DTEND;TZID=Pacific/Auckland:20260201T130000
DTSTAMP:20260423T221815
CREATED:20260203T103623Z
LAST-MODIFIED:20260203T105740Z
UID:2231-1769940000-1769950800@atba.nz
SUMMARY:Vimutti Open Day
DESCRIPTION:The Open Day at Vimutti Monastery is a monthly event where the lay community come together to offer alms food to the resident monks and devote time for dhamma learning and practice. The programme includes: \n\nTaking of 5 precepts\nOffering alms food to monks\nShared meal\nDhamma reflections/meditation or Q&A
URL:https://atba.nz/event/open-day-at-vimutti-monastery/
LOCATION:Vimutti Buddhist Monastery\, 750 Paparata Road Bombay\, Auckland\, 2343\, New Zealand
END:VEVENT
BEGIN:VEVENT
DTSTART;TZID=Pacific/Auckland:20260125T183000
DTEND;TZID=Pacific/Auckland:20260125T200000
DTSTAMP:20260423T221815
CREATED:20260108T063933Z
LAST-MODIFIED:20260108T063933Z
UID:2183-1769365800-1769371200@atba.nz
SUMMARY:Sangha-led Evening Puja\, Meditation and Dhamma Talk
DESCRIPTION:The weekly Sunday evening puja starts off with chanting\, followed by a group meditation sitting and a dhamma talk. Sangha from Vimutti Monastery will be at the puja. \nThe lay community can participate in person at the Vihara or via this Zoom link: https://us06web.zoom.us/j/86719656283?pwd=MTExZWk0OGRRNjAwRjhCcTgzZ2pLdz09 \nMeeting ID: 867 1965 6283\nPasscode: 0272042234
URL:https://atba.nz/event/sangha-led-evening-puja-meditation-and-dhamma-talk-21/
LOCATION:Auckland Buddhist Vihara\, 29 Harris Rd\, Mt Wellington\, Auckland\, New Zealand
END:VEVENT
BEGIN:VEVENT
DTSTART;TZID=Pacific/Auckland:20260125T100000
DTEND;TZID=Pacific/Auckland:20260125T130000
DTSTAMP:20260423T221815
CREATED:20260108T064645Z
LAST-MODIFIED:20260108T064700Z
UID:2188-1769335200-1769346000@atba.nz
SUMMARY:City Vihara Open Day
DESCRIPTION:The monthly Open Day at the City Vihara is on the fourth Sunday as usual\, starting at 10.00 am. Sangha from Vimutti Monastery will be at the Open Day. The programme includes: \n\nTaking of 5 precepts\nOffering alms food to Sangha from Vimutti Monastery\nShared meal\nDhamma reflections/meditation or Q&A
URL:https://atba.nz/event/city-vihara-open-day-17/
LOCATION:Auckland Buddhist Vihara\, 29 Harris Rd\, Mt Wellington\, Auckland\, New Zealand
END:VEVENT
BEGIN:VEVENT
DTSTART;TZID=Pacific/Auckland:20260118T183000
DTEND;TZID=Pacific/Auckland:20260118T200000
DTSTAMP:20260423T221815
CREATED:20260108T063743Z
LAST-MODIFIED:20260108T063743Z
UID:2177-1768761000-1768766400@atba.nz
SUMMARY:Evening Puja\, Meditation & Dhamma Talk
DESCRIPTION:The weekly Sunday evening puja starts off with chanting\, followed by a group meditation sitting and a dhamma talk. \nThe lay community can participate in person at the Vihara or via this Zoom link: https://us06web.zoom.us/j/86719656283?pwd=MTExZWk0OGRRNjAwRjhCcTgzZ2pLdz09 \nMeeting ID: 867 1965 6283\nPasscode: 0272042234
URL:https://atba.nz/event/evening-puja-meditation-dhamma-talk-21/
LOCATION:Auckland Buddhist Vihara\, 29 Harris Rd\, Mt Wellington\, Auckland\, New Zealand
END:VEVENT
BEGIN:VEVENT
DTSTART;TZID=Pacific/Auckland:20260117T130000
DTEND;TZID=Pacific/Auckland:20260117T170000
DTSTAMP:20260423T221815
CREATED:20260108T064339Z
LAST-MODIFIED:20260108T064339Z
UID:2000-1768654800-1768669200@atba.nz
SUMMARY:Meditation Workshop
DESCRIPTION:This is a monthly meditation workshop at Vimutti Buddhist Monastery led by the resident Sangha. All are welcome. Come for an afternoon of practice.
URL:https://atba.nz/event/meditation-workshop-18/
LOCATION:Vimutti Buddhist Monastery\, 750 Paparata Road Bombay\, Auckland\, 2343\, New Zealand
END:VEVENT
BEGIN:VEVENT
DTSTART;TZID=Pacific/Auckland:20260111T183000
DTEND;TZID=Pacific/Auckland:20260111T200000
DTSTAMP:20260423T221815
CREATED:20260108T063724Z
LAST-MODIFIED:20260108T063724Z
UID:2175-1768156200-1768161600@atba.nz
SUMMARY:Evening Puja\, Meditation & Dhamma Talk
DESCRIPTION:The weekly Sunday evening puja starts off with chanting\, followed by a group meditation sitting and a dhamma talk. \nThe lay community can participate in person at the Vihara or via this Zoom link: https://us06web.zoom.us/j/86719656283?pwd=MTExZWk0OGRRNjAwRjhCcTgzZ2pLdz09 \nMeeting ID: 867 1965 6283\nPasscode: 0272042234
URL:https://atba.nz/event/evening-puja-meditation-dhamma-talk-20/
LOCATION:Auckland Buddhist Vihara\, 29 Harris Rd\, Mt Wellington\, Auckland\, New Zealand
END:VEVENT
BEGIN:VEVENT
DTSTART;TZID=Pacific/Auckland:20260110T100000
DTEND;TZID=Pacific/Auckland:20260110T160000
DTSTAMP:20260423T221815
CREATED:20260108T064110Z
LAST-MODIFIED:20260108T064110Z
UID:2186-1768039200-1768060800@atba.nz
SUMMARY:Working Bee
DESCRIPTION:This is a day to help with maintenance and upkeep of Vimutti monastery. You can join any time from 10:00 am onwards. Please wear suitable work attire and bring a packed lunch. The following items may be helpful to bring along: \n\n\n\nwater\nwork gloves\nhat\ngumboots\n\n\n\nJoin us for this opportunity of merit making.
URL:https://atba.nz/event/working-bee-20/
LOCATION:Vimutti Buddhist Monastery\, 750 Paparata Road Bombay\, Auckland\, 2343\, New Zealand
END:VEVENT
BEGIN:VEVENT
DTSTART;TZID=Pacific/Auckland:20260104T183000
DTEND;TZID=Pacific/Auckland:20260104T200000
DTSTAMP:20260423T221815
CREATED:20260108T063704Z
LAST-MODIFIED:20260108T063704Z
UID:2173-1767551400-1767556800@atba.nz
SUMMARY:Evening Puja\, Meditation & Dhamma Talk
DESCRIPTION:The weekly Sunday evening puja starts off with chanting\, followed by a group meditation sitting and a dhamma talk. \nThe lay community can participate in person at the Vihara or via this Zoom link: https://us06web.zoom.us/j/86719656283?pwd=MTExZWk0OGRRNjAwRjhCcTgzZ2pLdz09 \nMeeting ID: 867 1965 6283\nPasscode: 0272042234
URL:https://atba.nz/event/evening-puja-meditation-dhamma-talk-19/
LOCATION:Auckland Buddhist Vihara\, 29 Harris Rd\, Mt Wellington\, Auckland\, New Zealand
END:VEVENT
BEGIN:VEVENT
DTSTART;TZID=Pacific/Auckland:20251231T203000
DTEND;TZID=Pacific/Auckland:20260101T003000
DTSTAMP:20260423T221815
CREATED:20260108T070043Z
LAST-MODIFIED:20260108T070043Z
UID:2209-1767213000-1767227400@atba.nz
SUMMARY:New Year's Eve Celebration
DESCRIPTION:Concurrent with the New Year Retreat at Vimutti\, there is a New Year’s Eve Celebration at the Harris Road Vihara. This is an opportunity for members of the community to come together to bid farewell to the old year and begin the new year with joy and meaningful aspirations. \nSangha from Vimutti will be at this special occasion. The programme for the evening begins at 8.30 pm and would include chanting\, meditation\, dhamma reflection and circumambulation of Bodhi tree at the turn of the year. There will be light refreshments at the end of the event.
URL:https://atba.nz/event/new-years-eve-celebration/
LOCATION:Auckland Buddhist Vihara\, 29 Harris Rd\, Mt Wellington\, Auckland\, New Zealand
END:VEVENT
BEGIN:VEVENT
DTSTART;TZID=Pacific/Auckland:20251228T183000
DTEND;TZID=Pacific/Auckland:20251228T200000
DTSTAMP:20260423T221815
CREATED:20260108T065403Z
LAST-MODIFIED:20260108T065403Z
UID:2199-1766946600-1766952000@atba.nz
SUMMARY:Evening Puja\, Meditation & Dhamma Talk
DESCRIPTION:The weekly Sunday evening puja starts off with chanting\, followed by a group meditation sitting and a dhamma talk. \nThe lay community can participate in person at the Vihara or via this Zoom link: https://us06web.zoom.us/j/86719656283?pwd=MTExZWk0OGRRNjAwRjhCcTgzZ2pLdz09 \nMeeting ID: 867 1965 6283\nPasscode: 0272042234
URL:https://atba.nz/event/evening-puja-meditation-dhamma-talk-22/
LOCATION:Auckland Buddhist Vihara\, 29 Harris Rd\, Mt Wellington\, Auckland\, New Zealand
END:VEVENT
BEGIN:VEVENT
DTSTART;TZID=Pacific/Auckland:20251227T140000
DTEND;TZID=Pacific/Auckland:20260103T103000
DTSTAMP:20260423T221815
CREATED:20260108T071438Z
LAST-MODIFIED:20260108T071438Z
UID:2219-1766844000-1767436200@atba.nz
SUMMARY:New Year Retreat
DESCRIPTION:The New Year Retreat offers our community the opportunity to end the year with mindfulness and to make the right aspirations for the new year. The retreat will be taught by Venerable Samvaro. \nCheck-in: 27 December 2025 (Saturday)\, between 2:00 and 3:00 PM. \nCheck-out: 3 January 2026 (Saturday)\, 10:30 AM \nMeditation Teachings: The retreat will emphasize using meditation based on the principles in the suttas. This means a comprehensive approach\, using meditation in all activities at all times for the cultivation of wisdom.
URL:https://atba.nz/event/new-year-retreat-2/
LOCATION:Vimutti Buddhist Monastery\, 750 Paparata Road Bombay\, Auckland\, 2343\, New Zealand
END:VEVENT
BEGIN:VEVENT
DTSTART;TZID=Pacific/Auckland:20251221T183000
DTEND;TZID=Pacific/Auckland:20251221T200000
DTSTAMP:20260423T221815
CREATED:20260108T065423Z
LAST-MODIFIED:20260108T065423Z
UID:2197-1766341800-1766347200@atba.nz
SUMMARY:Evening Puja\, Meditation & Dhamma Talk
DESCRIPTION:The weekly Sunday evening puja starts off with chanting\, followed by a group meditation sitting and a dhamma talk. \nThe lay community can participate in person at the Vihara or via this Zoom link: https://us06web.zoom.us/j/86719656283?pwd=MTExZWk0OGRRNjAwRjhCcTgzZ2pLdz09 \nMeeting ID: 867 1965 6283\nPasscode: 0272042234
URL:https://atba.nz/event/evening-puja-meditation-dhamma-talk-23/
LOCATION:Auckland Buddhist Vihara\, 29 Harris Rd\, Mt Wellington\, Auckland\, New Zealand
END:VEVENT
BEGIN:VEVENT
DTSTART;TZID=Pacific/Auckland:20251220T130000
DTEND;TZID=Pacific/Auckland:20251220T170000
DTSTAMP:20260423T221815
CREATED:20260108T065743Z
LAST-MODIFIED:20260108T065743Z
UID:2207-1766235600-1766250000@atba.nz
SUMMARY:Meditation Workshop
DESCRIPTION:This is a monthly meditation workshop at Vimutti Buddhist Monastery led by the resident Sangha. All are welcome. Come for an afternoon of practice.
URL:https://atba.nz/event/meditation-workshop-19/
LOCATION:Vimutti Buddhist Monastery\, 750 Paparata Road Bombay\, Auckland\, 2343\, New Zealand
END:VEVENT
BEGIN:VEVENT
DTSTART;TZID=Pacific/Auckland:20251214T183000
DTEND;TZID=Pacific/Auckland:20251214T200000
DTSTAMP:20260423T221815
CREATED:20260108T065613Z
LAST-MODIFIED:20260108T065613Z
UID:2204-1765737000-1765742400@atba.nz
SUMMARY:Sangha-led Evening Puja\, Meditation and Dhamma Talk
DESCRIPTION:The weekly Sunday evening puja starts off with chanting\, followed by a group meditation sitting and a dhamma talk. Sangha from Vimutti Monastery will be at the puja. \nThe lay community can participate in person at the Vihara or via this Zoom link: https://us06web.zoom.us/j/86719656283?pwd=MTExZWk0OGRRNjAwRjhCcTgzZ2pLdz09 \nMeeting ID: 867 1965 6283\nPasscode: 0272042234
URL:https://atba.nz/event/sangha-led-evening-puja-meditation-and-dhamma-talk-22/
LOCATION:Auckland Buddhist Vihara\, 29 Harris Rd\, Mt Wellington\, Auckland\, New Zealand
END:VEVENT
BEGIN:VEVENT
DTSTART;TZID=Pacific/Auckland:20251214T103000
DTEND;TZID=Pacific/Auckland:20251214T140000
DTSTAMP:20260423T221815
CREATED:20260108T070410Z
LAST-MODIFIED:20260108T070410Z
UID:2213-1765708200-1765720800@atba.nz
SUMMARY:City Vihara Open Day
DESCRIPTION:This month\, the Open Day at the City Vihara is on 14 December\, starting at 10.45 am\, after the ATBA Annual General Meeting. Sangha from Vimutti Monastery will be at the Open Day. The programme includes: \n\nTaking of 5 precepts\nOffering alms food to Sangha from Vimutti Monastery\nShared meal\nDhamma reflections/meditation or Q&A
URL:https://atba.nz/event/city-vihara-open-day-18/
LOCATION:Auckland Buddhist Vihara\, 29 Harris Rd\, Mt Wellington\, Auckland\, New Zealand
END:VEVENT
BEGIN:VEVENT
DTSTART;TZID=Pacific/Auckland:20251214T093000
DTEND;TZID=Pacific/Auckland:20251214T103000
DTSTAMP:20260423T221815
CREATED:20260108T070917Z
LAST-MODIFIED:20260108T071016Z
UID:2216-1765704600-1765708200@atba.nz
SUMMARY:Annual General Meeting
DESCRIPTION:This is the Annual General Meeting of the Auckland Theravada Buddhist Association (ATBA). \nAgenda: \n\nATBA Officers’ reports\nElection of 2025/2026 ATBA Officers and Committee\nThe AGM will be followed by the Open Day programme starting at about 10.45 am.\n\nOnly current financial members are eligible to attend.
URL:https://atba.nz/event/annual-general-meeting-2/
LOCATION:Auckland Buddhist Vihara\, 29 Harris Rd\, Mt Wellington\, Auckland\, New Zealand
END:VEVENT
BEGIN:VEVENT
DTSTART;TZID=Pacific/Auckland:20251207T183000
DTEND;TZID=Pacific/Auckland:20251207T200000
DTSTAMP:20260423T221815
CREATED:20260108T065439Z
LAST-MODIFIED:20260108T065439Z
UID:2195-1765132200-1765137600@atba.nz
SUMMARY:Evening Puja\, Meditation & Dhamma Talk
DESCRIPTION:The weekly Sunday evening puja starts off with chanting\, followed by a group meditation sitting and a dhamma talk. \nThe lay community can participate in person at the Vihara or via this Zoom link: https://us06web.zoom.us/j/86719656283?pwd=MTExZWk0OGRRNjAwRjhCcTgzZ2pLdz09 \nMeeting ID: 867 1965 6283\nPasscode: 0272042234
URL:https://atba.nz/event/evening-puja-meditation-dhamma-talk-24/
LOCATION:Auckland Buddhist Vihara\, 29 Harris Rd\, Mt Wellington\, Auckland\, New Zealand
END:VEVENT
BEGIN:VEVENT
DTSTART;TZID=Pacific/Auckland:20251206T100000
DTEND;TZID=Pacific/Auckland:20251206T160000
DTSTAMP:20260423T221815
CREATED:20260108T065029Z
LAST-MODIFIED:20260108T065029Z
UID:2193-1765015200-1765036800@atba.nz
SUMMARY:Working Bee
DESCRIPTION:This is a day to help with maintenance and upkeep of Vimutti monastery. You can join any time from 10:00 am onwards. Please wear suitable work attire and bring a packed lunch. The following items may be helpful to bring along: \n\n\n\nwater\nwork gloves\nhat\ngumboots\n\n\n\nJoin us for this opportunity of merit making.
URL:https://atba.nz/event/working-bee-21/
LOCATION:Vimutti Buddhist Monastery\, 750 Paparata Road Bombay\, Auckland\, 2343\, New Zealand
END:VEVENT
BEGIN:VEVENT
DTSTART;TZID=Pacific/Auckland:20251130T183000
DTEND;TZID=Pacific/Auckland:20251130T200000
DTSTAMP:20260423T221815
CREATED:20251027T075114Z
LAST-MODIFIED:20251027T075114Z
UID:2085-1764527400-1764532800@atba.nz
SUMMARY:Evening Puja\, Meditation & Dhamma Talk
DESCRIPTION:The weekly Sunday evening puja starts off with chanting\, followed by a group meditation sitting and a dhamma talk. \nThe lay community can participate in person at the Vihara or via this Zoom link: https://us06web.zoom.us/j/86719656283?pwd=MTExZWk0OGRRNjAwRjhCcTgzZ2pLdz09 \nMeeting ID: 867 1965 6283\nPasscode: 0272042234
URL:https://atba.nz/event/evening-puja-meditation-dhamma-talk-16/
LOCATION:Auckland Buddhist Vihara\, 29 Harris Rd\, Mt Wellington\, Auckland\, New Zealand
END:VEVENT
BEGIN:VEVENT
DTSTART;TZID=Pacific/Auckland:20251123T183000
DTEND;TZID=Pacific/Auckland:20251123T200000
DTSTAMP:20260423T221815
CREATED:20251027T075327Z
LAST-MODIFIED:20251027T075327Z
UID:2090-1763922600-1763928000@atba.nz
SUMMARY:Sangha-led Evening Puja\, Meditation and Dhamma Talk
DESCRIPTION:The weekly Sunday evening puja starts off with chanting\, followed by a group meditation sitting and a dhamma talk. Sangha from Vimutti Monastery will be at the puja. \nThe lay community can participate in person at the Vihara or via this Zoom link: https://us06web.zoom.us/j/86719656283?pwd=MTExZWk0OGRRNjAwRjhCcTgzZ2pLdz09 \nMeeting ID: 867 1965 6283\nPasscode: 0272042234
URL:https://atba.nz/event/sangha-led-evening-puja-meditation-and-dhamma-talk-20/
LOCATION:Auckland Buddhist Vihara\, 29 Harris Rd\, Mt Wellington\, Auckland\, New Zealand
END:VEVENT
BEGIN:VEVENT
DTSTART;TZID=Pacific/Auckland:20251123T100000
DTEND;TZID=Pacific/Auckland:20251123T130000
DTSTAMP:20260423T221815
CREATED:20251027T075524Z
LAST-MODIFIED:20251027T075524Z
UID:2093-1763892000-1763902800@atba.nz
SUMMARY:City Vihara Open Day
DESCRIPTION:The monthly Open Day at the City Vihara is on the fourth Sunday as usual\, starting at 10.00 am. Sangha from Vimutti Monastery will be at the Open Day. The programme includes: \n\nTaking of 5 precepts\nOffering alms food to Sangha from Vimutti Monastery\nShared meal\nDhamma reflections/meditation or Q&A
URL:https://atba.nz/event/city-vihara-open-day-16/
LOCATION:Auckland Buddhist Vihara\, 29 Harris Rd\, Mt Wellington\, Auckland\, New Zealand
END:VEVENT
BEGIN:VEVENT
DTSTART;TZID=Pacific/Auckland:20251116T093000
DTEND;TZID=Pacific/Auckland:20251116T140000
DTSTAMP:20260423T221815
CREATED:20251027T080231Z
LAST-MODIFIED:20251027T080231Z
UID:2095-1763285400-1763301600@atba.nz
SUMMARY:Pah Bah Ceremony (in lieu of Kathina)
DESCRIPTION:To commemorate the end of vassa\, Vimutti is holding a Pah Bah Ceremony. This beautiful ceremony brings together the lay community and Sangha\, fostering a sense of harmony and shared purpose in supporting the monastery. It is an opportunity to honour the Sangha by offering robes and requisites and share merits. The Sangha reciprocates with chanting\, blessings and dhamma teachings. \nThe programme includes: \n\ntaking 5 precepts\noffering alms food to monks\nshared meal\nrobe offering\ndhamma teachings\nchanting and blessings\n\nCome and join in this meaningful ceremony with the Sangha. \nDonations \nATBA has plans for a major project to improve the accommodation available for senior monks at Vimutti. As senior monks age\, there is a growing need to refurbish the existing Mahathera Kuti and equip it with appropriate facilities that take care of the health\, safety and nursing needs of senior resident monks. We also envision the need for a new kuti for senior visiting monks at a more easily accessible location. Most of the existing kutis are at the back of the property. \nYour generous donations at this Pah Bah will go towards the development of the two kutis. The bank account for donations is BNZ 02-0192-0469144-00 reference “Pah Bah”.
URL:https://atba.nz/event/pah-bah-ceremony-in-lieu-of-kathina/
LOCATION:Vimutti Buddhist Monastery\, 750 Paparata Road Bombay\, Auckland\, 2343\, New Zealand
END:VEVENT
BEGIN:VEVENT
DTSTART;TZID=Pacific/Auckland:20251109T183000
DTEND;TZID=Pacific/Auckland:20251109T200000
DTSTAMP:20260423T221815
CREATED:20251027T075129Z
LAST-MODIFIED:20251027T075129Z
UID:2083-1762713000-1762718400@atba.nz
SUMMARY:Evening Puja\, Meditation & Dhamma Talk
DESCRIPTION:The weekly Sunday evening puja starts off with chanting\, followed by a group meditation sitting and a dhamma talk. \nThe lay community can participate in person at the Vihara or via this Zoom link: https://us06web.zoom.us/j/86719656283?pwd=MTExZWk0OGRRNjAwRjhCcTgzZ2pLdz09 \nMeeting ID: 867 1965 6283\nPasscode: 0272042234
URL:https://atba.nz/event/evening-puja-meditation-dhamma-talk-17/
LOCATION:Auckland Buddhist Vihara\, 29 Harris Rd\, Mt Wellington\, Auckland\, New Zealand
END:VEVENT
BEGIN:VEVENT
DTSTART;TZID=Pacific/Auckland:20251102T183000
DTEND;TZID=Pacific/Auckland:20251102T200000
DTSTAMP:20260423T221815
CREATED:20251027T075147Z
LAST-MODIFIED:20251027T075147Z
UID:2081-1762108200-1762113600@atba.nz
SUMMARY:Evening Puja\, Meditation & Dhamma Talk
DESCRIPTION:The weekly Sunday evening puja starts off with chanting\, followed by a group meditation sitting and a dhamma talk. \nThe lay community can participate in person at the Vihara or via this Zoom link: https://us06web.zoom.us/j/86719656283?pwd=MTExZWk0OGRRNjAwRjhCcTgzZ2pLdz09 \nMeeting ID: 867 1965 6283\nPasscode: 0272042234
URL:https://atba.nz/event/evening-puja-meditation-dhamma-talk-18/
LOCATION:Auckland Buddhist Vihara\, 29 Harris Rd\, Mt Wellington\, Auckland\, New Zealand
END:VEVENT
BEGIN:VEVENT
DTSTART;TZID=Pacific/Auckland:20251101T100000
DTEND;TZID=Pacific/Auckland:20251101T160000
DTSTAMP:20260423T221815
CREATED:20251027T074657Z
LAST-MODIFIED:20251027T074657Z
UID:2079-1761991200-1762012800@atba.nz
SUMMARY:Working Bee
DESCRIPTION:This is a day to help with maintenance and upkeep of Vimutti monastery. You can join any time from 10:00 am onwards. Please wear suitable work attire and bring a packed lunch. The following items may be helpful to bring along: \n\n\n\nwater\nwork gloves\nhat\ngumboots\n\n\n\nJoin us for this opportunity of merit making.
URL:https://atba.nz/event/working-bee-19/
LOCATION:Vimutti Buddhist Monastery\, 750 Paparata Road Bombay\, Auckland\, 2343\, New Zealand
END:VEVENT
END:VCALENDAR