BEGIN:VCALENDAR
VERSION:2.0
PRODID:-// - ECPv6.15.20//NONSGML v1.0//EN
CALSCALE:GREGORIAN
METHOD:PUBLISH
X-ORIGINAL-URL:https://atba.nz
X-WR-CALDESC:Events for 
REFRESH-INTERVAL;VALUE=DURATION:PT1H
X-Robots-Tag:noindex
X-PUBLISHED-TTL:PT1H
BEGIN:VTIMEZONE
TZID:Pacific/Auckland
BEGIN:STANDARD
TZOFFSETFROM:+1300
TZOFFSETTO:+1200
TZNAME:NZST
DTSTART:20220402T140000
END:STANDARD
BEGIN:DAYLIGHT
TZOFFSETFROM:+1200
TZOFFSETTO:+1300
TZNAME:NZDT
DTSTART:20220924T140000
END:DAYLIGHT
BEGIN:STANDARD
TZOFFSETFROM:+1300
TZOFFSETTO:+1200
TZNAME:NZST
DTSTART:20230401T140000
END:STANDARD
BEGIN:DAYLIGHT
TZOFFSETFROM:+1200
TZOFFSETTO:+1300
TZNAME:NZDT
DTSTART:20230923T140000
END:DAYLIGHT
BEGIN:STANDARD
TZOFFSETFROM:+1300
TZOFFSETTO:+1200
TZNAME:NZST
DTSTART:20240406T140000
END:STANDARD
BEGIN:DAYLIGHT
TZOFFSETFROM:+1200
TZOFFSETTO:+1300
TZNAME:NZDT
DTSTART:20240928T140000
END:DAYLIGHT
END:VTIMEZONE
BEGIN:VTIMEZONE
TZID:UTC
BEGIN:STANDARD
TZOFFSETFROM:+0000
TZOFFSETTO:+0000
TZNAME:UTC
DTSTART:20220101T000000
END:STANDARD
END:VTIMEZONE
BEGIN:VEVENT
DTSTART;TZID=Pacific/Auckland:20231216T130000
DTEND;TZID=Pacific/Auckland:20231216T170000
DTSTAMP:20260425T140103
CREATED:20231129T142541Z
LAST-MODIFIED:20231129T142548Z
UID:472-1702731600-1702746000@atba.nz
SUMMARY:Meditation Workshop
DESCRIPTION:You are welcome to come for all or part of it.
URL:https://atba.nz/event/meditation-workshop/
LOCATION:Vimutti Buddhist Monastery\, 750 Paparata Road Bombay\, Auckland\, 2343\, New Zealand
END:VEVENT
BEGIN:VEVENT
DTSTART;TZID=Pacific/Auckland:20231210T110000
DTEND;TZID=Pacific/Auckland:20231210T130000
DTSTAMP:20260425T140103
CREATED:20231129T142437Z
LAST-MODIFIED:20231129T142601Z
UID:470-1702206000-1702213200@atba.nz
SUMMARY:Open Day
DESCRIPTION:
URL:https://atba.nz/event/open-day-2/
LOCATION:Auckland Buddhist Vihara\, 29 Harris Rd\, Mt Wellington\, Auckland\, New Zealand
END:VEVENT
BEGIN:VEVENT
DTSTART;TZID=UTC:20231210T093000
DTEND;TZID=UTC:20231210T110000
DTSTAMP:20260425T140103
CREATED:20230912T080423Z
LAST-MODIFIED:20231104T204401Z
UID:58-1702200600-1702206000@atba.nz
SUMMARY:Annual General Meeting
DESCRIPTION:Agenda: \n\nSpiritual Director’s report\nATBA Officers’ reports\nElection of 2024 ATBA Officers and Committee\nThe AGM will be followed by\nDana and Shared Meal at 11.00 am. (All Welcome including non-members – please bring a plate for shared meal)\n\nMembership: \nPlease note that only members are eligible to vote. For details on how to apply\, please see here.
URL:https://atba.nz/event/annual-general-meeting/
LOCATION:Auckland Buddhist Vihara\, 29 Harris Rd\, Mt Wellington\, Auckland\, New Zealand
END:VEVENT
BEGIN:VEVENT
DTSTART;TZID=Pacific/Auckland:20231203T183000
DTEND;TZID=Pacific/Auckland:20231203T193000
DTSTAMP:20260425T140103
CREATED:20231104T211111Z
LAST-MODIFIED:20231104T211111Z
UID:458-1701628200-1701631800@atba.nz
SUMMARY:Evening Puja\, Meditation & Dhamma Talk
DESCRIPTION:
URL:https://atba.nz/event/evening-puja-meditation-dhamma-talk-2/
LOCATION:Auckland Buddhist Vihara\, 29 Harris Rd\, Mt Wellington\, Auckland\, New Zealand
END:VEVENT
BEGIN:VEVENT
DTSTART;TZID=Pacific/Auckland:20231202T100000
DTEND;TZID=Pacific/Auckland:20231202T160000
DTSTAMP:20260425T140103
CREATED:20231129T141956Z
LAST-MODIFIED:20231129T142253Z
UID:465-1701511200-1701532800@atba.nz
SUMMARY:Working Bee
DESCRIPTION:This is a day to help with maintenance and upkeep of Vimutti monastery. Please follow the guidelines below if you would like to join the Working Bee: \n\nWear suitable work attire.\nBring work clothes and packed lunch. The following items may be helpful:\n\nWater\, hat\, work gloves\, gumboots.
URL:https://atba.nz/event/working-bee-2/
LOCATION:Vimutti Buddhist Monastery\, 750 Paparata Road Bombay\, Auckland\, 2343\, New Zealand
END:VEVENT
BEGIN:VEVENT
DTSTART;TZID=Pacific/Auckland:20231126T063000
DTEND;TZID=Pacific/Auckland:20231126T193000
DTSTAMP:20260425T140103
CREATED:20231104T210749Z
LAST-MODIFIED:20231104T210749Z
UID:456-1700980200-1701027000@atba.nz
SUMMARY:Evening Puja\, Meditation & Dhamma Talk
DESCRIPTION:
URL:https://atba.nz/event/evening-puja-meditation-dhamma-talk/
LOCATION:Auckland Buddhist Vihara\, 29 Harris Rd\, Mt Wellington\, Auckland\, New Zealand
END:VEVENT
BEGIN:VEVENT
DTSTART;TZID=Pacific/Auckland:20231119T183000
DTEND;TZID=Pacific/Auckland:20231119T193000
DTSTAMP:20260425T140103
CREATED:20231104T210539Z
LAST-MODIFIED:20231104T210539Z
UID:454-1700418600-1700422200@atba.nz
SUMMARY:Sangha-led Evening Puja\, Meditation & Dhamma Talk
DESCRIPTION:
URL:https://atba.nz/event/sangha-led-evening-puja-meditation-dhamma-talk/
LOCATION:Auckland Buddhist Vihara\, 29 Harris Rd\, Mt Wellington\, Auckland\, New Zealand
END:VEVENT
BEGIN:VEVENT
DTSTART;TZID=Pacific/Auckland:20231119T100000
DTEND;TZID=Pacific/Auckland:20231119T130000
DTSTAMP:20260425T140103
CREATED:20231104T210349Z
LAST-MODIFIED:20231104T210349Z
UID:452-1700388000-1700398800@atba.nz
SUMMARY:Open Day
DESCRIPTION:
URL:https://atba.nz/event/open-day/
LOCATION:Auckland Buddhist Vihara\, 29 Harris Rd\, Mt Wellington\, Auckland\, New Zealand
END:VEVENT
BEGIN:VEVENT
DTSTART;TZID=Pacific/Auckland:20231112T063000
DTEND;TZID=Pacific/Auckland:20231112T193000
DTSTAMP:20260425T140103
CREATED:20231104T205747Z
LAST-MODIFIED:20231104T210924Z
UID:447-1699770600-1699817400@atba.nz
SUMMARY:Evening Puja\, Meditation & Dhamma Talk
DESCRIPTION:
URL:https://atba.nz/event/vihara-evening-puja-meditation-dhamma-talk/
LOCATION:Auckland Buddhist Vihara\, 29 Harris Rd\, Mt Wellington\, Auckland\, New Zealand
END:VEVENT
BEGIN:VEVENT
DTSTART;TZID=Pacific/Auckland:20231111T100000
DTEND;TZID=Pacific/Auckland:20231111T183000
DTSTAMP:20260425T140103
CREATED:20231104T204247Z
LAST-MODIFIED:20231104T210120Z
UID:444-1699696800-1699727400@atba.nz
SUMMARY:Working Bee
DESCRIPTION:This is a day to help with maintenance and upkeep of Vimutti monastery. Please follow the guidelines below if you would like to join the Working Bee: \n\nWear suitable work attire.\nBring water\, hat\, work gloves\, gumboots and packed lunch.
URL:https://atba.nz/event/working-bee/
LOCATION:Vimutti Buddhist Monastery\, 750 Paparata Road Bombay\, Auckland\, 2343\, New Zealand
END:VEVENT
END:VCALENDAR