BEGIN:VCALENDAR
VERSION:2.0
PRODID:-// - ECPv6.15.20//NONSGML v1.0//EN
CALSCALE:GREGORIAN
METHOD:PUBLISH
X-ORIGINAL-URL:https://atba.nz
X-WR-CALDESC:Events for 
REFRESH-INTERVAL;VALUE=DURATION:PT1H
X-Robots-Tag:noindex
X-PUBLISHED-TTL:PT1H
BEGIN:VTIMEZONE
TZID:Pacific/Auckland
BEGIN:STANDARD
TZOFFSETFROM:+1300
TZOFFSETTO:+1200
TZNAME:NZST
DTSTART:20250405T140000
END:STANDARD
BEGIN:DAYLIGHT
TZOFFSETFROM:+1200
TZOFFSETTO:+1300
TZNAME:NZDT
DTSTART:20250927T140000
END:DAYLIGHT
BEGIN:STANDARD
TZOFFSETFROM:+1300
TZOFFSETTO:+1200
TZNAME:NZST
DTSTART:20260404T140000
END:STANDARD
BEGIN:DAYLIGHT
TZOFFSETFROM:+1200
TZOFFSETTO:+1300
TZNAME:NZDT
DTSTART:20260926T140000
END:DAYLIGHT
BEGIN:STANDARD
TZOFFSETFROM:+1300
TZOFFSETTO:+1200
TZNAME:NZST
DTSTART:20270403T140000
END:STANDARD
BEGIN:DAYLIGHT
TZOFFSETFROM:+1200
TZOFFSETTO:+1300
TZNAME:NZDT
DTSTART:20270925T140000
END:DAYLIGHT
END:VTIMEZONE
BEGIN:VEVENT
DTSTART;TZID=Pacific/Auckland:20260329T100000
DTEND;TZID=Pacific/Auckland:20260329T140000
DTSTAMP:20260423T080842
CREATED:20260304T065415Z
LAST-MODIFIED:20260304T065415Z
UID:2295-1774778400-1774792800@atba.nz
SUMMARY:Vihara Open Day. Founders & Elders Day
DESCRIPTION:The March Open Day at the City Vihara on 29 March\, Sunday\, is going to be a special day where we’ll honour the founders and elders who established the Auckland Theravada Buddhist Association (ATBA). Ajahn Kusalo and Sangha from Vimutti will be at this special event. The programme is in two parts. \nThe morning segment includes: \n\nTaking of 5 precepts\nRice pindapata\nDhamma reflections\nShared meal\n\nThe afternoon segment to celebrate Founders & Elders Day includes: \n\nSpeeches/expressions of gratitude\nParitta chanting\nWater blessing\n\n 
URL:https://atba.nz/event/vihara-open-day-founders-elders-day/
LOCATION:Auckland Buddhist Vihara\, 29 Harris Rd\, Mt Wellington\, Auckland\, New Zealand
END:VEVENT
BEGIN:VEVENT
DTSTART;TZID=Pacific/Auckland:20260329T183000
DTEND;TZID=Pacific/Auckland:20260329T200000
DTSTAMP:20260423T080842
CREATED:20260203T110649Z
LAST-MODIFIED:20260203T110649Z
UID:2281-1774809000-1774814400@atba.nz
SUMMARY:Vihara Evening Puja\, Meditation & Dhamma Talk
DESCRIPTION:The weekly Sunday evening puja starts off with chanting\, followed by a group meditation sitting and a dhamma talk. \nThe lay community can participate in person at the Vihara or via this Zoom link: https://us06web.zoom.us/j/86719656283?pwd=MTExZWk0OGRRNjAwRjhCcTgzZ2pLdz09 \nMeeting ID: 867 1965 6283\nPasscode: 0272042234
URL:https://atba.nz/event/vihara-evening-puja-meditation-dhamma-talk-5/
LOCATION:Auckland Buddhist Vihara\, 29 Harris Rd\, Mt Wellington\, Auckland\, New Zealand
END:VEVENT
END:VCALENDAR