BEGIN:VCALENDAR
VERSION:2.0
PRODID:-// - ECPv6.15.20//NONSGML v1.0//EN
CALSCALE:GREGORIAN
METHOD:PUBLISH
X-ORIGINAL-URL:https://atba.nz
X-WR-CALDESC:Events for 
REFRESH-INTERVAL;VALUE=DURATION:PT1H
X-Robots-Tag:noindex
X-PUBLISHED-TTL:PT1H
BEGIN:VTIMEZONE
TZID:Pacific/Auckland
BEGIN:STANDARD
TZOFFSETFROM:+1300
TZOFFSETTO:+1200
TZNAME:NZST
DTSTART:20240406T140000
END:STANDARD
BEGIN:DAYLIGHT
TZOFFSETFROM:+1200
TZOFFSETTO:+1300
TZNAME:NZDT
DTSTART:20240928T140000
END:DAYLIGHT
BEGIN:STANDARD
TZOFFSETFROM:+1300
TZOFFSETTO:+1200
TZNAME:NZST
DTSTART:20250405T140000
END:STANDARD
BEGIN:DAYLIGHT
TZOFFSETFROM:+1200
TZOFFSETTO:+1300
TZNAME:NZDT
DTSTART:20250927T140000
END:DAYLIGHT
BEGIN:STANDARD
TZOFFSETFROM:+1300
TZOFFSETTO:+1200
TZNAME:NZST
DTSTART:20260404T140000
END:STANDARD
BEGIN:DAYLIGHT
TZOFFSETFROM:+1200
TZOFFSETTO:+1300
TZNAME:NZDT
DTSTART:20260926T140000
END:DAYLIGHT
END:VTIMEZONE
BEGIN:VEVENT
DTSTART;TZID=Pacific/Auckland:20250518T090000
DTEND;TZID=Pacific/Auckland:20250518T190000
DTSTAMP:20260424T115739
CREATED:20250509T090758Z
LAST-MODIFIED:20250509T090758Z
UID:1868-1747558800-1747594800@atba.nz
SUMMARY:Vesak Celebration
DESCRIPTION:ATBA’s official Vesak Celebration is on Sunday\, 18 May. Due to the Wesak celebration\, the usual Vihara Open Day will form part of the day’s programme. Sangha from Vimutti will be at the Celebration. \nThe full-day programme starts at 9.00 am (for those wishing to observe eight precepts)\, followed by Open Day\, continuing through to the lighting of Vesak lanterns in the evening. Five precepts will be formally requested just before lunch dana\, followed by pindapat\, a shared meal and dhamma reflections. In the afternoon\, there will also be social activities in the form of a walk up Mt Wellington folllowed by tea\, and the Dhamma School children’s programme. The Vesak lanterns will be lit at dusk. \nAll are welcome to join in the Vesak celebration at any part of the programme.
URL:https://atba.nz/event/vesak-celebration/
LOCATION:Auckland Buddhist Vihara\, 29 Harris Rd\, Mt Wellington\, Auckland\, New Zealand
END:VEVENT
END:VCALENDAR