BEGIN:VCALENDAR
VERSION:2.0
PRODID:-// - ECPv6.15.20//NONSGML v1.0//EN
CALSCALE:GREGORIAN
METHOD:PUBLISH
X-ORIGINAL-URL:https://atba.nz
X-WR-CALDESC:Events for 
REFRESH-INTERVAL;VALUE=DURATION:PT1H
X-Robots-Tag:noindex
X-PUBLISHED-TTL:PT1H
BEGIN:VTIMEZONE
TZID:Pacific/Auckland
BEGIN:STANDARD
TZOFFSETFROM:+1300
TZOFFSETTO:+1200
TZNAME:NZST
DTSTART:20240406T140000
END:STANDARD
BEGIN:DAYLIGHT
TZOFFSETFROM:+1200
TZOFFSETTO:+1300
TZNAME:NZDT
DTSTART:20240928T140000
END:DAYLIGHT
BEGIN:STANDARD
TZOFFSETFROM:+1300
TZOFFSETTO:+1200
TZNAME:NZST
DTSTART:20250405T140000
END:STANDARD
BEGIN:DAYLIGHT
TZOFFSETFROM:+1200
TZOFFSETTO:+1300
TZNAME:NZDT
DTSTART:20250927T140000
END:DAYLIGHT
BEGIN:STANDARD
TZOFFSETFROM:+1300
TZOFFSETTO:+1200
TZNAME:NZST
DTSTART:20260404T140000
END:STANDARD
BEGIN:DAYLIGHT
TZOFFSETFROM:+1200
TZOFFSETTO:+1300
TZNAME:NZDT
DTSTART:20260926T140000
END:DAYLIGHT
END:VTIMEZONE
BEGIN:VEVENT
DTSTART;TZID=Pacific/Auckland:20250427T100000
DTEND;TZID=Pacific/Auckland:20250427T130000
DTSTAMP:20260424T134013
CREATED:20250329T053847Z
LAST-MODIFIED:20250329T053847Z
UID:1844-1745748000-1745758800@atba.nz
SUMMARY:City Vihara Open Day
DESCRIPTION:The regular Open Day at the City Vihara is on the 4th Sunday of each month\, starting at 10.00 am. The programme includes: \n\nTaking of 5 precepts\nOffering alms food to Sangha from Vimutti Monastery\nShared meal\nDhamma reflections/meditation or Q&A
URL:https://atba.nz/event/city-vihara-open-day-10/
LOCATION:Auckland Buddhist Vihara\, 29 Harris Rd\, Mt Wellington\, Auckland\, New Zealand
END:VEVENT
BEGIN:VEVENT
DTSTART;TZID=Pacific/Auckland:20250427T183000
DTEND;TZID=Pacific/Auckland:20250427T200000
DTSTAMP:20260424T134013
CREATED:20250329T053656Z
LAST-MODIFIED:20250329T053656Z
UID:1841-1745778600-1745784000@atba.nz
SUMMARY:Sangha-led Evening Puja\, Meditation and Dhamma Talk
DESCRIPTION:Sangha from Vimutti Buddhist Monastery will be leading the evening’s proceedings. \nYou can participate in person at the Vihara or via this Zoom link: https://us06web.zoom.us/j/86719656283?pwd=MTExZWk0OGRRNjAwRjhCcTgzZ2pLdz09 \nMeeting ID: 867 1965 6283\nPasscode: 0272042234
URL:https://atba.nz/event/sangha-led-evening-puja-meditation-and-dhamma-talk-12/
LOCATION:Auckland Buddhist Vihara\, 29 Harris Rd\, Mt Wellington\, Auckland\, New Zealand
END:VEVENT
END:VCALENDAR