BEGIN:VCALENDAR
VERSION:2.0
PRODID:-// - ECPv6.15.20//NONSGML v1.0//EN
CALSCALE:GREGORIAN
METHOD:PUBLISH
X-ORIGINAL-URL:https://atba.nz
X-WR-CALDESC:Events for 
REFRESH-INTERVAL;VALUE=DURATION:PT1H
X-Robots-Tag:noindex
X-PUBLISHED-TTL:PT1H
BEGIN:VTIMEZONE
TZID:Pacific/Auckland
BEGIN:STANDARD
TZOFFSETFROM:+1300
TZOFFSETTO:+1200
TZNAME:NZST
DTSTART:20240406T140000
END:STANDARD
BEGIN:DAYLIGHT
TZOFFSETFROM:+1200
TZOFFSETTO:+1300
TZNAME:NZDT
DTSTART:20240928T140000
END:DAYLIGHT
BEGIN:STANDARD
TZOFFSETFROM:+1300
TZOFFSETTO:+1200
TZNAME:NZST
DTSTART:20250405T140000
END:STANDARD
BEGIN:DAYLIGHT
TZOFFSETFROM:+1200
TZOFFSETTO:+1300
TZNAME:NZDT
DTSTART:20250927T140000
END:DAYLIGHT
BEGIN:STANDARD
TZOFFSETFROM:+1300
TZOFFSETTO:+1200
TZNAME:NZST
DTSTART:20260404T140000
END:STANDARD
BEGIN:DAYLIGHT
TZOFFSETFROM:+1200
TZOFFSETTO:+1300
TZNAME:NZDT
DTSTART:20260926T140000
END:DAYLIGHT
END:VTIMEZONE
BEGIN:VEVENT
DTSTART;TZID=Pacific/Auckland:20250405T100000
DTEND;TZID=Pacific/Auckland:20250405T160000
DTSTAMP:20260424T134014
CREATED:20250329T051602Z
LAST-MODIFIED:20250329T051602Z
UID:1814-1743847200-1743868800@atba.nz
SUMMARY:Special Working Bee - Memorial Tree Maintenance Day
DESCRIPTION:The next Working Bee at Vimutti Monastery\, on Saturday 5 April\, is going to be a very special event dedicated to memorial tree maintenance. \nAll are welcome\, and in particular\, we invite all memorial tree donors to attend this working bee to tend to the memorial trees of their loved ones. Work involves weeding and clearing the area under the memorial trees\, plaque maintenance and some light pruning where required. \nPlease bring your own garden tools like secateurs\, loppers and weed eaters as Vimutti does not have enough for everyone. \nYou can join us any time between 10 am and 4pm. Make this a family day outing in the serene environment of the monastery. Please wear suitable work attire and bring a packed lunch. The following items may be helpful to bring along: \n\n\n\nwater\nwork gloves\nhat\ngumboots
URL:https://atba.nz/event/special-working-bee-memorial-tree-maintenance-day/
LOCATION:Vimutti Buddhist Monastery\, 750 Paparata Road Bombay\, Auckland\, 2343\, New Zealand
END:VEVENT
END:VCALENDAR