BEGIN:VCALENDAR
VERSION:2.0
PRODID:-// - ECPv6.15.20//NONSGML v1.0//EN
CALSCALE:GREGORIAN
METHOD:PUBLISH
X-ORIGINAL-URL:https://atba.nz
X-WR-CALDESC:Events for 
REFRESH-INTERVAL;VALUE=DURATION:PT1H
X-Robots-Tag:noindex
X-PUBLISHED-TTL:PT1H
BEGIN:VTIMEZONE
TZID:Pacific/Auckland
BEGIN:STANDARD
TZOFFSETFROM:+1300
TZOFFSETTO:+1200
TZNAME:NZST
DTSTART:20240406T140000
END:STANDARD
BEGIN:DAYLIGHT
TZOFFSETFROM:+1200
TZOFFSETTO:+1300
TZNAME:NZDT
DTSTART:20240928T140000
END:DAYLIGHT
BEGIN:STANDARD
TZOFFSETFROM:+1300
TZOFFSETTO:+1200
TZNAME:NZST
DTSTART:20250405T140000
END:STANDARD
BEGIN:DAYLIGHT
TZOFFSETFROM:+1200
TZOFFSETTO:+1300
TZNAME:NZDT
DTSTART:20250927T140000
END:DAYLIGHT
BEGIN:STANDARD
TZOFFSETFROM:+1300
TZOFFSETTO:+1200
TZNAME:NZST
DTSTART:20260404T140000
END:STANDARD
BEGIN:DAYLIGHT
TZOFFSETFROM:+1200
TZOFFSETTO:+1300
TZNAME:NZDT
DTSTART:20260926T140000
END:DAYLIGHT
END:VTIMEZONE
BEGIN:VEVENT
DTSTART;TZID=Pacific/Auckland:20250105T103000
DTEND;TZID=Pacific/Auckland:20250105T130000
DTSTAMP:20260424T191242
CREATED:20250108T032848Z
LAST-MODIFIED:20250108T032848Z
UID:1714-1736073000-1736082000@atba.nz
SUMMARY:Lunch dana and Q&A with Ajahn Karuniko
DESCRIPTION:In conjunction with Ajahn Karuniko’s visit to New Zealand.
URL:https://atba.nz/event/lunch-dana-and-qa-with-ajahn-karuniko/
LOCATION:Auckland Buddhist Vihara\, 29 Harris Rd\, Mt Wellington\, Auckland\, New Zealand
END:VEVENT
BEGIN:VEVENT
DTSTART;TZID=Pacific/Auckland:20250105T183000
DTEND;TZID=Pacific/Auckland:20250105T200000
DTSTAMP:20260424T191242
CREATED:20250108T033131Z
LAST-MODIFIED:20250108T033131Z
UID:1716-1736101800-1736107200@atba.nz
SUMMARY:Sunday Evening Puja\, Meditation & Dhamma Discussion with Ajahn Karuniko
DESCRIPTION:Ajahn Karuniko\, who is on a visit to New Zealand\, has graciously accepted our invitation to be with us at this Sunday’s evening puja and meditation.
URL:https://atba.nz/event/sunday-evening-puja-meditation-dhamma-discussion-with-ajahn-karuniko/
LOCATION:Auckland Buddhist Vihara\, 29 Harris Rd\, Mt Wellington\, Auckland\, New Zealand
END:VEVENT
END:VCALENDAR