BEGIN:VCALENDAR
VERSION:2.0
PRODID:-// - ECPv6.15.20//NONSGML v1.0//EN
CALSCALE:GREGORIAN
METHOD:PUBLISH
X-ORIGINAL-URL:https://atba.nz
X-WR-CALDESC:Events for 
REFRESH-INTERVAL;VALUE=DURATION:PT1H
X-Robots-Tag:noindex
X-PUBLISHED-TTL:PT1H
BEGIN:VTIMEZONE
TZID:Pacific/Auckland
BEGIN:STANDARD
TZOFFSETFROM:+1300
TZOFFSETTO:+1200
TZNAME:NZST
DTSTART:20230401T140000
END:STANDARD
BEGIN:DAYLIGHT
TZOFFSETFROM:+1200
TZOFFSETTO:+1300
TZNAME:NZDT
DTSTART:20230923T140000
END:DAYLIGHT
BEGIN:STANDARD
TZOFFSETFROM:+1300
TZOFFSETTO:+1200
TZNAME:NZST
DTSTART:20240406T140000
END:STANDARD
BEGIN:DAYLIGHT
TZOFFSETFROM:+1200
TZOFFSETTO:+1300
TZNAME:NZDT
DTSTART:20240928T140000
END:DAYLIGHT
BEGIN:STANDARD
TZOFFSETFROM:+1300
TZOFFSETTO:+1200
TZNAME:NZST
DTSTART:20250405T140000
END:STANDARD
BEGIN:DAYLIGHT
TZOFFSETFROM:+1200
TZOFFSETTO:+1300
TZNAME:NZDT
DTSTART:20250927T140000
END:DAYLIGHT
BEGIN:STANDARD
TZOFFSETFROM:+1300
TZOFFSETTO:+1200
TZNAME:NZST
DTSTART:20260404T140000
END:STANDARD
BEGIN:DAYLIGHT
TZOFFSETFROM:+1200
TZOFFSETTO:+1300
TZNAME:NZDT
DTSTART:20260926T140000
END:DAYLIGHT
END:VTIMEZONE
BEGIN:VEVENT
DTSTART;TZID=Pacific/Auckland:20241227T080000
DTEND;TZID=Pacific/Auckland:20250104T170000
DTSTAMP:20260424T191240
CREATED:20241125T022107Z
LAST-MODIFIED:20241125T022107Z
UID:1547-1735286400-1736010000@atba.nz
SUMMARY:New Year Retreat
DESCRIPTION:This nine-day residential retreat at Vimutti Monastery will be led by Ajahn Kusalacitto and Bhante Kavidhaja. All spaces have been filled.
URL:https://atba.nz/event/new-year-retreat/
LOCATION:Vimutti Buddhist Monastery\, 750 Paparata Road Bombay\, Auckland\, 2343\, New Zealand
END:VEVENT
BEGIN:VEVENT
DTSTART;TZID=Pacific/Auckland:20241231T203000
DTEND;TZID=Pacific/Auckland:20250101T010000
DTSTAMP:20260424T191240
CREATED:20241125T022548Z
LAST-MODIFIED:20241125T023207Z
UID:1552-1735677000-1735693200@atba.nz
SUMMARY:New Year's Eve Celebration and Puja
DESCRIPTION:Welcome the new year with devotion to the Buddha’s teachings. There will be chanting\, meditation\, dhamma talk\, circumambulation of Bodhi tree at the turn of the year and refreshments.
URL:https://atba.nz/event/new-years-eve-celebration-and-puja/
LOCATION:Auckland Buddhist Vihara\, 29 Harris Rd\, Mt Wellington\, Auckland\, New Zealand
END:VEVENT
END:VCALENDAR