BEGIN:VCALENDAR
VERSION:2.0
PRODID:-// - ECPv6.15.20//NONSGML v1.0//EN
CALSCALE:GREGORIAN
METHOD:PUBLISH
X-ORIGINAL-URL:https://atba.nz
X-WR-CALDESC:Events for 
REFRESH-INTERVAL;VALUE=DURATION:PT1H
X-Robots-Tag:noindex
X-PUBLISHED-TTL:PT1H
BEGIN:VTIMEZONE
TZID:Pacific/Auckland
BEGIN:STANDARD
TZOFFSETFROM:+1300
TZOFFSETTO:+1200
TZNAME:NZST
DTSTART:20230401T140000
END:STANDARD
BEGIN:DAYLIGHT
TZOFFSETFROM:+1200
TZOFFSETTO:+1300
TZNAME:NZDT
DTSTART:20230923T140000
END:DAYLIGHT
BEGIN:STANDARD
TZOFFSETFROM:+1300
TZOFFSETTO:+1200
TZNAME:NZST
DTSTART:20240406T140000
END:STANDARD
BEGIN:DAYLIGHT
TZOFFSETFROM:+1200
TZOFFSETTO:+1300
TZNAME:NZDT
DTSTART:20240928T140000
END:DAYLIGHT
BEGIN:STANDARD
TZOFFSETFROM:+1300
TZOFFSETTO:+1200
TZNAME:NZST
DTSTART:20250405T140000
END:STANDARD
BEGIN:DAYLIGHT
TZOFFSETFROM:+1200
TZOFFSETTO:+1300
TZNAME:NZDT
DTSTART:20250927T140000
END:DAYLIGHT
END:VTIMEZONE
BEGIN:VEVENT
DTSTART;TZID=Pacific/Auckland:20241026T090000
DTEND;TZID=Pacific/Auckland:20241026T140000
DTSTAMP:20260425T000802
CREATED:20241004T021238Z
LAST-MODIFIED:20241004T021736Z
UID:929-1729933200-1729951200@atba.nz
SUMMARY:Kathina Season Celebration
DESCRIPTION:Vimutti Buddhist Monastery will be marking the end of vassa with the Kathina Season Celebration\, which will be held on Saturday\, 26 October 2024\, from 9am to 2pm. \nProgramme: \n\nTaking 5 precepts\nPindapat and shared meal\nBlessings and dhamma reflection\nRobe offerings\n\nGoing back to the days of the Buddha\, Kathina is traditionally one of the most significant occasions for making merits in the year. All donations go towards construction of shower blocks for Vimutti Sangha and residents. ATBA bank account BNZ 02-0192-0469144-00 Ref: Kathina.
URL:https://atba.nz/event/kathina-season-celebration/
LOCATION:Vimutti Buddhist Monastery\, 750 Paparata Road Bombay\, Auckland\, 2343\, New Zealand
END:VEVENT
END:VCALENDAR