BEGIN:VCALENDAR
VERSION:2.0
PRODID:-// - ECPv6.15.20//NONSGML v1.0//EN
CALSCALE:GREGORIAN
METHOD:PUBLISH
X-ORIGINAL-URL:https://atba.nz
X-WR-CALDESC:Events for 
REFRESH-INTERVAL;VALUE=DURATION:PT1H
X-Robots-Tag:noindex
X-PUBLISHED-TTL:PT1H
BEGIN:VTIMEZONE
TZID:Pacific/Auckland
BEGIN:STANDARD
TZOFFSETFROM:+1300
TZOFFSETTO:+1200
TZNAME:NZST
DTSTART:20230401T140000
END:STANDARD
BEGIN:DAYLIGHT
TZOFFSETFROM:+1200
TZOFFSETTO:+1300
TZNAME:NZDT
DTSTART:20230923T140000
END:DAYLIGHT
BEGIN:STANDARD
TZOFFSETFROM:+1300
TZOFFSETTO:+1200
TZNAME:NZST
DTSTART:20240406T140000
END:STANDARD
BEGIN:DAYLIGHT
TZOFFSETFROM:+1200
TZOFFSETTO:+1300
TZNAME:NZDT
DTSTART:20240928T140000
END:DAYLIGHT
BEGIN:STANDARD
TZOFFSETFROM:+1300
TZOFFSETTO:+1200
TZNAME:NZST
DTSTART:20250405T140000
END:STANDARD
BEGIN:DAYLIGHT
TZOFFSETFROM:+1200
TZOFFSETTO:+1300
TZNAME:NZDT
DTSTART:20250927T140000
END:DAYLIGHT
END:VTIMEZONE
BEGIN:VEVENT
DTSTART;VALUE=DATE:20240721
DTEND;VALUE=DATE:20241018
DTSTAMP:20260425T013900
CREATED:20240630T050445Z
LAST-MODIFIED:20240821T150544Z
UID:775-1721520000-1729209599@atba.nz
SUMMARY:Vassa period
DESCRIPTION:The monks at Vimutti Monastery start observing vassa on 21 July\, Sunday. Traditionally known as the rains retreat\, the three-month vassa is the time when the monastic community stay put in one place and intensify their practice. For this purpose\, activities at the monastery will be less\, and Open Days at Vimutti Monastery will be suspended during this period. Vassa ends on 17 October 2024. \nRegular practitioners who wish to deepen their practice during vassa are welcome to visit the monastery for self-practice.
URL:https://atba.nz/event/vassa-commences/
LOCATION:Vimutti Buddhist Monastery\, 750 Paparata Road Bombay\, Auckland\, 2343\, New Zealand
END:VEVENT
BEGIN:VEVENT
DTSTART;TZID=Pacific/Auckland:20240921T130000
DTEND;TZID=Pacific/Auckland:20240921T170000
DTSTAMP:20260425T013900
CREATED:20240916T061346Z
LAST-MODIFIED:20240916T061346Z
UID:901-1726923600-1726938000@atba.nz
SUMMARY:Meditation Workshop
DESCRIPTION:Every 3rd Saturday at Vimutti Buddhist Monastery. All are welcome. Come for all or part.
URL:https://atba.nz/event/meditation-workshop-8/
LOCATION:Vimutti Buddhist Monastery\, 750 Paparata Road Bombay\, Auckland\, 2343\, New Zealand
END:VEVENT
END:VCALENDAR