BEGIN:VCALENDAR
VERSION:2.0
PRODID:-// - ECPv6.15.20//NONSGML v1.0//EN
CALSCALE:GREGORIAN
METHOD:PUBLISH
X-ORIGINAL-URL:https://atba.nz
X-WR-CALDESC:Events for 
REFRESH-INTERVAL;VALUE=DURATION:PT1H
X-Robots-Tag:noindex
X-PUBLISHED-TTL:PT1H
BEGIN:VTIMEZONE
TZID:Pacific/Auckland
BEGIN:STANDARD
TZOFFSETFROM:+1300
TZOFFSETTO:+1200
TZNAME:NZST
DTSTART:20230401T140000
END:STANDARD
BEGIN:DAYLIGHT
TZOFFSETFROM:+1200
TZOFFSETTO:+1300
TZNAME:NZDT
DTSTART:20230923T140000
END:DAYLIGHT
BEGIN:STANDARD
TZOFFSETFROM:+1300
TZOFFSETTO:+1200
TZNAME:NZST
DTSTART:20240406T140000
END:STANDARD
BEGIN:DAYLIGHT
TZOFFSETFROM:+1200
TZOFFSETTO:+1300
TZNAME:NZDT
DTSTART:20240928T140000
END:DAYLIGHT
BEGIN:STANDARD
TZOFFSETFROM:+1300
TZOFFSETTO:+1200
TZNAME:NZST
DTSTART:20250405T140000
END:STANDARD
BEGIN:DAYLIGHT
TZOFFSETFROM:+1200
TZOFFSETTO:+1300
TZNAME:NZDT
DTSTART:20250927T140000
END:DAYLIGHT
END:VTIMEZONE
BEGIN:VEVENT
DTSTART;TZID=Pacific/Auckland:20240310T100000
DTEND;TZID=Pacific/Auckland:20240310T130000
DTSTAMP:20260425T110623
CREATED:20240302T171627Z
LAST-MODIFIED:20240302T172238Z
UID:498-1710064800-1710075600@atba.nz
SUMMARY:Open Day
DESCRIPTION:
URL:https://atba.nz/event/open-day-3/
LOCATION:Vimutti Buddhist Monastery\, 750 Paparata Road Bombay\, Auckland\, 2343\, New Zealand
END:VEVENT
BEGIN:VEVENT
DTSTART;TZID=Pacific/Auckland:20240310T183000
DTEND;TZID=Pacific/Auckland:20240310T200000
DTSTAMP:20260425T110623
CREATED:20240302T171718Z
LAST-MODIFIED:20240302T172301Z
UID:500-1710095400-1710100800@atba.nz
SUMMARY:Evening Puja\, Meditation and Dhamma Talk
DESCRIPTION:
URL:https://atba.nz/event/evening-puja-meditation-and-dhamma-talk/
LOCATION:Auckland Buddhist Vihara\, 29 Harris Rd\, Mt Wellington\, Auckland\, New Zealand
END:VEVENT
END:VCALENDAR