BEGIN:VCALENDAR
VERSION:2.0
PRODID:-// - ECPv6.15.20//NONSGML v1.0//EN
CALSCALE:GREGORIAN
METHOD:PUBLISH
X-ORIGINAL-URL:https://atba.nz
X-WR-CALDESC:Events for 
REFRESH-INTERVAL;VALUE=DURATION:PT1H
X-Robots-Tag:noindex
X-PUBLISHED-TTL:PT1H
BEGIN:VTIMEZONE
TZID:Pacific/Auckland
BEGIN:STANDARD
TZOFFSETFROM:+1300
TZOFFSETTO:+1200
TZNAME:NZST
DTSTART:20220402T140000
END:STANDARD
BEGIN:DAYLIGHT
TZOFFSETFROM:+1200
TZOFFSETTO:+1300
TZNAME:NZDT
DTSTART:20220924T140000
END:DAYLIGHT
BEGIN:STANDARD
TZOFFSETFROM:+1300
TZOFFSETTO:+1200
TZNAME:NZST
DTSTART:20230401T140000
END:STANDARD
BEGIN:DAYLIGHT
TZOFFSETFROM:+1200
TZOFFSETTO:+1300
TZNAME:NZDT
DTSTART:20230923T140000
END:DAYLIGHT
BEGIN:STANDARD
TZOFFSETFROM:+1300
TZOFFSETTO:+1200
TZNAME:NZST
DTSTART:20240406T140000
END:STANDARD
BEGIN:DAYLIGHT
TZOFFSETFROM:+1200
TZOFFSETTO:+1300
TZNAME:NZDT
DTSTART:20240928T140000
END:DAYLIGHT
BEGIN:STANDARD
TZOFFSETFROM:+1300
TZOFFSETTO:+1200
TZNAME:NZST
DTSTART:20250405T140000
END:STANDARD
BEGIN:DAYLIGHT
TZOFFSETFROM:+1200
TZOFFSETTO:+1300
TZNAME:NZDT
DTSTART:20250927T140000
END:DAYLIGHT
END:VTIMEZONE
BEGIN:VEVENT
DTSTART;TZID=Pacific/Auckland:20231228T143000
DTEND;TZID=Pacific/Auckland:20240102T103000
DTSTAMP:20260425T152754
CREATED:20231129T143004Z
LAST-MODIFIED:20231129T144858Z
UID:474-1703773800-1704191400@atba.nz
SUMMARY:New Year's Eve Retreat
DESCRIPTION:Please email nzmetta@gmail.com or phone 021 623 622 (Richman) for application form or more information. Space is limited\, so please get in touch asap and by the deadline of 10 December 2023. \nParticipants are welcome to arrive earlier in the morning & to bring shared lunch for dana at 10:30am on the 28th.
URL:https://atba.nz/event/new-years-eve-retreat/
LOCATION:Vimutti Buddhist Monastery\, 750 Paparata Road Bombay\, Auckland\, 2343\, New Zealand
END:VEVENT
BEGIN:VEVENT
DTSTART;TZID=Pacific/Auckland:20231231T213000
DTEND;TZID=Pacific/Auckland:20240101T001500
DTSTAMP:20260425T152754
CREATED:20231129T143202Z
LAST-MODIFIED:20231129T143354Z
UID:476-1704058200-1704068100@atba.nz
SUMMARY:New Year's Eve Reflection and Celebration
DESCRIPTION:Reflecting on the past year\, sitting peacefully in the present\, and resolutions for a happy new year!
URL:https://atba.nz/event/new-years-eve/
LOCATION:Auckland Buddhist Vihara\, 29 Harris Rd\, Mt Wellington\, Auckland\, New Zealand
END:VEVENT
END:VCALENDAR